BEGIN:VCALENDAR
VERSION:2.0
PRODID:itakvim.com
CALSCALE:GREGORIAN
METHOD:PUBLISH
UID:sly7dxzb92g
X-WR-CALNAME:Noterlerce Tahsil Edilen Vergi Resim ve Harçlar ile Değerli Kağıt Bedelleri
X-ITAKVIM-LANGUAGE:tr
X-ORIGINAL-URL:itakvim.com
REFRESH-INTERVAL;VALUE=DURATION:PT1H
X-ITAKVIM-REGION:TR
X-Robots-Tag:noindex
X-PUBLISHED-TTL:PT1H
BEGIN:VEVENT
UID:79f0ceba-156d-4c1d-b721-08de922f30e3
DTSTAMP:20260407T115019Z
TRANSP:TRANSPARENT
DTSTART:20260401T060000Z
DTEND:20260401T060000Z
STATUS:CONFIRMED
SUMMARY:Mart 2026 Dönemine Ait Noterlerce Yapılan Makbuz Karşılığı
  Ödemelere Ait Beyannamenin Verilmesi ve Ödemesi Başlangıç
DESCRIPTION:Mart 2026 Dönemi Noterlerce Yapılan Makbuz Karşılığı 
 Ödemelerin Beyan ve Ödemesi
BEGIN:VALARM
ACTION:DISPLAY
DESCRIPTION:Mart 2026 Dönemine Ait Noterlerce Yapılan Makbuz Karşılı
 ğı Ödemelere Ait Beyannamenin Verilmesi ve Ödemesi Başlangıç
TRIGGER:PT0S
END:VALARM
END:VEVENT
BEGIN:VEVENT
UID:1d7d1f4c-4d28-40db-b722-08de922f30e3
DTSTAMP:20260407T115019Z
TRANSP:TRANSPARENT
DTSTART:20260407T140000Z
DTEND:20260407T140000Z
STATUS:CONFIRMED
SUMMARY:Mart 2026 Dönemi Noterlerce Yapılan Makbuz Karşılığı Ödem
 elerin Beyan ve Ödemesi Son Gün
DESCRIPTION:Mart 2026 Dönemine Ait Noterlerce Yapılan Makbuz Karşılı
 ğı Ödemelere Ait Beyannamenin Verilmesi ve Ödemesi
BEGIN:VALARM
ACTION:DISPLAY
DESCRIPTION:Mart 2026 Dönemi Noterlerce Yapılan Makbuz Karşılığı 
 Ödemelerin Beyan ve Ödemesi Son Gün
TRIGGER:-PT8H
END:VALARM
END:VEVENT
BEGIN:VEVENT
UID:15e87345-030c-4c1a-b723-08de922f30e3
DTSTAMP:20260407T115019Z
TRANSP:TRANSPARENT
DTSTART:20260401T060000Z
DTEND:20260401T060000Z
STATUS:CONFIRMED
SUMMARY:Mart 2026 Dönemine Ait Noterlerce Yapılan Makbuz Karşılığı
  Ödemelere Ait Beyannamenin Verilmesi ve Ödemesi Başlangıç
DESCRIPTION:Mart 2026 Dönemi Noterlerce Yapılan Makbuz Karşılığı 
 Ödemelerin Beyan ve Ödemesi
BEGIN:VALARM
ACTION:DISPLAY
DESCRIPTION:Mart 2026 Dönemine Ait Noterlerce Yapılan Makbuz Karşılı
 ğı Ödemelere Ait Beyannamenin Verilmesi ve Ödemesi Başlangıç
TRIGGER:PT0S
END:VALARM
END:VEVENT
BEGIN:VEVENT
UID:6fd99335-aff5-44b0-b724-08de922f30e3
DTSTAMP:20260407T115019Z
TRANSP:TRANSPARENT
DTSTART:20260407T140000Z
DTEND:20260407T140000Z
STATUS:CONFIRMED
SUMMARY:Mart 2026 Dönemi Noterlerce Yapılan Makbuz Karşılığı Ödem
 elerin Beyan ve Ödemesi Son Gün
DESCRIPTION:Mart 2026 Dönemine Ait Noterlerce Yapılan Makbuz Karşılı
 ğı Ödemelere Ait Beyannamenin Verilmesi ve Ödemesi
BEGIN:VALARM
ACTION:DISPLAY
DESCRIPTION:Mart 2026 Dönemi Noterlerce Yapılan Makbuz Karşılığı 
 Ödemelerin Beyan ve Ödemesi Son Gün
TRIGGER:-PT8H
END:VALARM
END:VEVENT
END:VCALENDAR
