BEGIN:VCALENDAR
VERSION:2.0
PRODID:itakvim.com
CALSCALE:GREGORIAN
METHOD:PUBLISH
UID:spah9udet45
X-WR-CALNAME:Katma Değer Vergisi
X-ITAKVIM-LANGUAGE:tr
X-ORIGINAL-URL:itakvim.com
REFRESH-INTERVAL;VALUE=DURATION:PT1H
X-ITAKVIM-REGION:TR
X-Robots-Tag:noindex
X-PUBLISHED-TTL:PT1H
BEGIN:VEVENT
UID:becb3d07-0d5f-4991-d2ed-08de9f271cd7
DTSTAMP:20260420T215235Z
TRANSP:TRANSPARENT
DTSTART:20260401T060000Z
DTEND:20260401T060000Z
STATUS:CONFIRMED
SUMMARY:Mart 2026 Dönemine Ait Vergi Sorumlularının Tevkif Ettikleri K
 atma Değer Vergisinin Beyanı ve Ödemesi Başlangıç
DESCRIPTION:Mart 2026 Dönemi Katma Değer Vergisi Tevkifatı Beyan ve Ö
 demesi
BEGIN:VALARM
ACTION:DISPLAY
DESCRIPTION:Mart 2026 Dönemine Ait Vergi Sorumlularının Tevkif Ettikle
 ri Katma Değer Vergisinin Beyanı ve Ödemesi Başlangıç
TRIGGER:PT0S
END:VALARM
END:VEVENT
BEGIN:VEVENT
UID:f4869e2f-f1b1-4e65-d2ee-08de9f271cd7
DTSTAMP:20260420T215235Z
TRANSP:TRANSPARENT
DTSTART:20260427T140000Z
DTEND:20260427T140000Z
STATUS:CONFIRMED
SUMMARY:Mart 2026 Dönemi Katma Değer Vergisi Tevkifatı Beyan ve Ödeme
 si Son Gün
DESCRIPTION:Mart 2026 Dönemine Ait Vergi Sorumlularının Tevkif Ettikle
 ri Katma Değer Vergisinin Beyanı ve Ödemesi
BEGIN:VALARM
ACTION:DISPLAY
DESCRIPTION:Mart 2026 Dönemi Katma Değer Vergisi Tevkifatı Beyan ve Ö
 demesi Son Gün
TRIGGER:-PT8H
END:VALARM
END:VEVENT
BEGIN:VEVENT
UID:d35fa4d1-59fe-4fb9-d2ef-08de9f271cd7
DTSTAMP:20260420T215235Z
TRANSP:TRANSPARENT
DTSTART:20260401T060000Z
DTEND:20260401T060000Z
STATUS:CONFIRMED
SUMMARY:Ocak-Şubat-Mart 2026 Dönemine Ait Katma Değer Vergisinin Beyan
 ı ve Ödemesi Başlangıç
DESCRIPTION:Ocak-Şubat-Mart 2026 Dönemi Katma Değer Vergisinin Beyan v
 e Ödemesi
BEGIN:VALARM
ACTION:DISPLAY
DESCRIPTION:Ocak-Şubat-Mart 2026 Dönemine Ait Katma Değer Vergisinin B
 eyanı ve Ödemesi Başlangıç
TRIGGER:PT0S
END:VALARM
END:VEVENT
BEGIN:VEVENT
UID:544f1fd9-245c-430c-d2f0-08de9f271cd7
DTSTAMP:20260420T215235Z
TRANSP:TRANSPARENT
DTSTART:20260428T140000Z
DTEND:20260428T140000Z
STATUS:CONFIRMED
SUMMARY:Ocak-Şubat-Mart 2026 Dönemi Katma Değer Vergisinin Beyan ve Ö
 demesi Son Gün
DESCRIPTION:Ocak-Şubat-Mart 2026 Dönemine Ait Katma Değer Vergisinin B
 eyanı ve Ödemesi
BEGIN:VALARM
ACTION:DISPLAY
DESCRIPTION:Ocak-Şubat-Mart 2026 Dönemi Katma Değer Vergisinin Beyan v
 e Ödemesi Son Gün
TRIGGER:-PT8H
END:VALARM
END:VEVENT
BEGIN:VEVENT
UID:a113aef9-97a7-4aae-d2f1-08de9f271cd7
DTSTAMP:20260420T215235Z
TRANSP:TRANSPARENT
DTSTART:20260401T060000Z
DTEND:20260401T060000Z
STATUS:CONFIRMED
SUMMARY:Mart 2026 Dönemine Ait Katma Değer Vergisinin Beyanı ve Ödeme
 si Başlangıç
DESCRIPTION:Mart 2026 Dönemi Katma Değer Vergisinin Beyan ve Ödemesi
BEGIN:VALARM
ACTION:DISPLAY
DESCRIPTION:Mart 2026 Dönemine Ait Katma Değer Vergisinin Beyanı ve Ö
 demesi Başlangıç
TRIGGER:PT0S
END:VALARM
END:VEVENT
BEGIN:VEVENT
UID:b9bb69a6-62d8-4db1-d2f2-08de9f271cd7
DTSTAMP:20260420T215235Z
TRANSP:TRANSPARENT
DTSTART:20260428T140000Z
DTEND:20260428T140000Z
STATUS:CONFIRMED
SUMMARY:Mart 2026 Dönemi Katma Değer Vergisinin Beyan ve Ödemesi Son G
 ün
DESCRIPTION:Mart 2026 Dönemine Ait Katma Değer Vergisinin Beyanı ve Ö
 demesi
BEGIN:VALARM
ACTION:DISPLAY
DESCRIPTION:Mart 2026 Dönemi Katma Değer Vergisinin Beyan ve Ödemesi S
 on Gün
TRIGGER:-PT8H
END:VALARM
END:VEVENT
END:VCALENDAR
