BEGIN:VCALENDAR
VERSION:2.0
PRODID:itakvim.com
CALSCALE:GREGORIAN
METHOD:PUBLISH
UID:t9v46ifvjoz
X-WR-CALNAME:Trabzon Karadeniz Teknik Üniversitesi,15 Temmuz Demokrasi Alanı Takvimi
X-ITAKVIM-LANGUAGE:tr
X-ORIGINAL-URL:itakvim.com
REFRESH-INTERVAL;VALUE=DURATION:PT1H
X-ITAKVIM-REGION:TR
X-Robots-Tag:noindex
X-PUBLISHED-TTL:PT1H
BEGIN:VEVENT
UID:5e74abc5-7953-4632-8d6c-08de9dec68b5
DTSTAMP:20260419T083022Z
TRANSP:TRANSPARENT
DTSTART:20260327T060000Z
DTEND:20260331T150000Z
STATUS:CONFIRMED
SUMMARY:Trabzon 1.Karadeniz Deniz Araçları Ve Ekipmanları Boat Show Fu
 arı
DESCRIPTION:Artı Fuarcılık Organizasyon Limited Şirketi tarafından d
 üzenlenen deniz araçları ve ekipmanları konulu fuarda görüşmek ü
 zere: \n\nWeb:www.blackseaboatshow.com.tr\nE-Posta: murat.arslan@artifua
 r.com
LOCATION:Trabzon Karadeniz Teknik Üniversitesi,15 Temmuz Demokrasi Alanı
BEGIN:VALARM
ACTION:DISPLAY
DESCRIPTION:Trabzon 1.Karadeniz Deniz Araçları Ve Ekipmanları Boat Sho
 w Fuarı
TRIGGER:-PT24H
END:VALARM
END:VEVENT
END:VCALENDAR
