BEGIN:VCALENDAR
VERSION:2.0
PRODID:itakvim.com
CALSCALE:GREGORIAN
METHOD:PUBLISH
UID:tee44ep1wdv
X-WR-CALNAME:Gaziantep Teymur Contınental Hotel & Convention Center Takvimi
X-ITAKVIM-LANGUAGE:tr
X-ORIGINAL-URL:itakvim.com
REFRESH-INTERVAL;VALUE=DURATION:PT1H
X-ITAKVIM-REGION:TR
X-Robots-Tag:noindex
X-PUBLISHED-TTL:PT1H
BEGIN:VEVENT
UID:ff08202e-65a9-4458-533c-08de9f183112
DTSTAMP:20260420T200816Z
TRANSP:TRANSPARENT
DTSTART:20260722T060000Z
DTEND:20260722T150000Z
STATUS:CONFIRMED
SUMMARY:2.Gaziantep Üniversite Tercih Fuarı
DESCRIPTION:Eket Fuarcılık Ticaret Limited Şirketi tarafından düzenl
 enen eğitim \, yüksek öğretim ve üniversite tercihleri konulu fuard
 a görüşmek üzere: \n\nWeb:www.eket.com.tr\nE-Posta: info@eket.com.tr
LOCATION:Teymur Contınental Hotel & Convention Center
BEGIN:VALARM
ACTION:DISPLAY
DESCRIPTION:2.Gaziantep Üniversite Tercih Fuarı
TRIGGER:-PT24H
END:VALARM
END:VEVENT
END:VCALENDAR
