BEGIN:VCALENDAR
VERSION:2.0
PRODID:itakvim.com
CALSCALE:GREGORIAN
METHOD:PUBLISH
UID:tiy3kmq2zwt
X-WR-CALNAME:MSÜ Sınav Takvimi
X-ITAKVIM-LANGUAGE:tr
X-ORIGINAL-URL:itakvim.com
REFRESH-INTERVAL;VALUE=DURATION:PT1H
X-ITAKVIM-REGION:TR
X-Robots-Tag:noindex
X-PUBLISHED-TTL:PT1H
BEGIN:VEVENT
UID:c23cd2cd-d8db-46fe-4f9e-08de9f183112
DTSTAMP:20260420T200538Z
TRANSP:TRANSPARENT
DTSTART:20260301T071500Z
DTEND:20260301T071500Z
STATUS:CONFIRMED
SUMMARY:MSÜ Millî Savunma Üniversitesi Askerî Öğrenci Aday Belirlem
 e Sınavı 2026-MSÜ Sınav
END:VEVENT
BEGIN:VEVENT
UID:6f343a4e-9bfb-4473-4f9f-08de9f183112
DTSTAMP:20260420T200538Z
TRANSP:TRANSPARENT
DTSTART:20260105T073000Z
DTEND:20260105T073000Z
STATUS:CONFIRMED
SUMMARY:MSÜ Millî Savunma Üniversitesi Askerî Öğrenci Aday Belirlem
 e Sınavı 2026-MSÜ Başvuru Başlangıç
END:VEVENT
BEGIN:VEVENT
UID:c294bc0a-97af-41fd-4fa0-08de9f183112
DTSTAMP:20260420T200538Z
TRANSP:TRANSPARENT
DTSTART:20260129T205900Z
DTEND:20260129T205900Z
STATUS:CONFIRMED
SUMMARY:MSÜ Millî Savunma Üniversitesi Askerî Öğrenci Aday Belirlem
 e Sınavı 2026-MSÜ Başvuru Bitiş
END:VEVENT
BEGIN:VEVENT
UID:dfc88e9b-77a6-4b29-4fa1-08de9f183112
DTSTAMP:20260420T200538Z
TRANSP:TRANSPARENT
DTSTART:20260202T210000Z
DTEND:20260202T210000Z
STATUS:CONFIRMED
SUMMARY:MSÜ Millî Savunma Üniversitesi Askerî Öğrenci Aday Belirlem
 e Sınavı 2026-MSÜ Geç Başvuru Başlangıç
END:VEVENT
BEGIN:VEVENT
UID:b3ff16a5-fec6-493e-4fa2-08de9f183112
DTSTAMP:20260420T200538Z
TRANSP:TRANSPARENT
DTSTART:20260203T205900Z
DTEND:20260203T205900Z
STATUS:CONFIRMED
SUMMARY:MSÜ Millî Savunma Üniversitesi Askerî Öğrenci Aday Belirlem
 e Sınavı 2026-MSÜ Geç Başvuru Bitiş
END:VEVENT
BEGIN:VEVENT
UID:e6bd651b-3c6c-4afa-4fa3-08de9f183112
DTSTAMP:20260420T200538Z
TRANSP:TRANSPARENT
DTSTART:20260323T210000Z
DTEND:20260323T210000Z
STATUS:CONFIRMED
SUMMARY:MSÜ Millî Savunma Üniversitesi Askerî Öğrenci Aday Belirlem
 e Sınavı 2026-MSÜ Sonuç
END:VEVENT
END:VCALENDAR
