BEGIN:VCALENDAR
VERSION:2.0
PRODID:itakvim.com
CALSCALE:GREGORIAN
METHOD:PUBLISH
UID:toay6x8yez1
X-WR-CALNAME:Icc İstanbul Kongre Merkezi Fuar Alanı Takvimi
X-ITAKVIM-LANGUAGE:tr
X-ORIGINAL-URL:itakvim.com
REFRESH-INTERVAL;VALUE=DURATION:PT1H
X-ITAKVIM-REGION:TR
X-Robots-Tag:noindex
X-PUBLISHED-TTL:PT1H
BEGIN:VEVENT
UID:7c81e363-1cca-40ce-533e-08de9f183112
DTSTAMP:20260420T200816Z
TRANSP:TRANSPARENT
DTSTART:20260506T060000Z
DTEND:20260508T150000Z
STATUS:CONFIRMED
SUMMARY:Tos+H Expo 6.Türk İş Güvenliği Ve Sağlığı Fuarı
DESCRIPTION:Tezulaş Fuar Danışmanlık Hizmetleri Limited Şirketi tara
 fından düzenlenen İş yerinde güvenli ve sağlıklı çalışma koş
 ullarının sağlanması konulu fuarda görüşmek üzere: \n\nWeb:www.t
 ezulas-fuar.com\nE-Posta: info@tezulas-fuar.com
LOCATION:Icc İstanbul Kongre Merkezi Fuar Alanı
BEGIN:VALARM
ACTION:DISPLAY
DESCRIPTION:Tos+H Expo 6.Türk İş Güvenliği Ve Sağlığı Fuarı
TRIGGER:-PT24H
END:VALARM
END:VEVENT
END:VCALENDAR
