BEGIN:VCALENDAR
VERSION:2.0
PRODID:itakvim.com
CALSCALE:GREGORIAN
METHOD:PUBLISH
UID:tstc19an0hi
X-WR-CALNAME:FSM Kültür Sanat Merkezi-Rasim Öztekin Sahnesi
X-ITAKVIM-LANGUAGE:tr
X-ORIGINAL-URL:itakvim.com
REFRESH-INTERVAL;VALUE=DURATION:PT1H
X-ITAKVIM-REGION:TR
X-Robots-Tag:noindex
X-PUBLISHED-TTL:PT1H
BEGIN:VEVENT
UID:8c289252-48bd-40ac-cc93-08de9d98d356
DTSTAMP:20260418T222121Z
TRANSP:TRANSPARENT
DTSTART:20260419T110000Z
DTEND:20260419T110000Z
STATUS:CONFIRMED
SUMMARY:Bekçi İle Postacı
LOCATION:FSM Kültür Sanat Merkezi-Rasim Öztekin Sahnesi
END:VEVENT
BEGIN:VEVENT
UID:1ad20cee-f4d8-4673-cc94-08de9d98d356
DTSTAMP:20260418T222121Z
TRANSP:TRANSPARENT
DTSTART:20260502T120000Z
DTEND:20260502T120000Z
STATUS:CONFIRMED
SUMMARY:Maviydi Bisikletim
LOCATION:FSM Kültür Sanat Merkezi-Rasim Öztekin Sahnesi
END:VEVENT
BEGIN:VEVENT
UID:ddae068e-3805-4234-cc95-08de9d98d356
DTSTAMP:20260418T222121Z
TRANSP:TRANSPARENT
DTSTART:20260502T170000Z
DTEND:20260502T170000Z
STATUS:CONFIRMED
SUMMARY:Maviydi Bisikletim
LOCATION:FSM Kültür Sanat Merkezi-Rasim Öztekin Sahnesi
END:VEVENT
BEGIN:VEVENT
UID:e369e653-f010-42e7-cc96-08de9d98d356
DTSTAMP:20260418T222121Z
TRANSP:TRANSPARENT
DTSTART:20260425T120000Z
DTEND:20260425T120000Z
STATUS:CONFIRMED
SUMMARY:Öksüzler
LOCATION:FSM Kültür Sanat Merkezi-Rasim Öztekin Sahnesi
END:VEVENT
BEGIN:VEVENT
UID:927d82b2-9dd0-4046-cc97-08de9d98d356
DTSTAMP:20260418T222121Z
TRANSP:TRANSPARENT
DTSTART:20260425T170000Z
DTEND:20260425T170000Z
STATUS:CONFIRMED
SUMMARY:Öksüzler
LOCATION:FSM Kültür Sanat Merkezi-Rasim Öztekin Sahnesi
END:VEVENT
END:VCALENDAR
