BEGIN:VCALENDAR
VERSION:2.0
PRODID:itakvim.com
CALSCALE:GREGORIAN
METHOD:PUBLISH
UID:tuw2yczm9kn
X-WR-CALNAME:STS Diş Hekimliği Sınav Takvimi
X-ITAKVIM-LANGUAGE:tr
X-ORIGINAL-URL:itakvim.com
REFRESH-INTERVAL;VALUE=DURATION:PT1H
X-ITAKVIM-REGION:TR
X-Robots-Tag:noindex
X-PUBLISHED-TTL:PT1H
BEGIN:VEVENT
UID:d4948ec4-b56d-4c64-4fa4-08de9f183112
DTSTAMP:20260420T200538Z
TRANSP:TRANSPARENT
DTSTART:20260426T071500Z
DTEND:20260426T071500Z
STATUS:CONFIRMED
SUMMARY:STS Diş Hekimliği Diş Hekimliği Alanında Yurt Dışı Yükse
 köğretim Diploma Denkliği İçin Seviye Tespit Sınavı 2026-STS Diş
  Hekimliği 1.Dönem Sınav
END:VEVENT
BEGIN:VEVENT
UID:0986292b-74bc-4afb-4fa5-08de9f183112
DTSTAMP:20260420T200538Z
TRANSP:TRANSPARENT
DTSTART:20260310T070000Z
DTEND:20260310T070000Z
STATUS:CONFIRMED
SUMMARY:STS Diş Hekimliği Diş Hekimliği Alanında Yurt Dışı Yükse
 köğretim Diploma Denkliği İçin Seviye Tespit Sınavı 2026-STS Diş
  Hekimliği 1.Dönem Başvuru Başlangıç
END:VEVENT
BEGIN:VEVENT
UID:ffa71c6b-5cec-482c-4fa6-08de9f183112
DTSTAMP:20260420T200538Z
TRANSP:TRANSPARENT
DTSTART:20260317T205900Z
DTEND:20260317T205900Z
STATUS:CONFIRMED
SUMMARY:STS Diş Hekimliği Diş Hekimliği Alanında Yurt Dışı Yükse
 köğretim Diploma Denkliği İçin Seviye Tespit Sınavı 2026-STS Diş
  Hekimliği 1.Dönem Başvuru Bitiş
END:VEVENT
BEGIN:VEVENT
UID:83489f25-b239-4d3e-4fa7-08de9f183112
DTSTAMP:20260420T200538Z
TRANSP:TRANSPARENT
DTSTART:20260324T210000Z
DTEND:20260324T210000Z
STATUS:CONFIRMED
SUMMARY:STS Diş Hekimliği Diş Hekimliği Alanında Yurt Dışı Yükse
 köğretim Diploma Denkliği İçin Seviye Tespit Sınavı 2026-STS Diş
  Hekimliği 1.Dönem Geç Başvuru Başlangıç
END:VEVENT
BEGIN:VEVENT
UID:937de84e-ec0f-4005-4fa8-08de9f183112
DTSTAMP:20260420T200538Z
TRANSP:TRANSPARENT
DTSTART:20260325T205900Z
DTEND:20260325T205900Z
STATUS:CONFIRMED
SUMMARY:STS Diş Hekimliği Diş Hekimliği Alanında Yurt Dışı Yükse
 köğretim Diploma Denkliği İçin Seviye Tespit Sınavı 2026-STS Diş
  Hekimliği 1.Dönem Geç Başvuru Bitiş
END:VEVENT
BEGIN:VEVENT
UID:7184d2a9-6e6f-4f60-4fa9-08de9f183112
DTSTAMP:20260420T200538Z
TRANSP:TRANSPARENT
DTSTART:20260521T210000Z
DTEND:20260521T210000Z
STATUS:CONFIRMED
SUMMARY:STS Diş Hekimliği Diş Hekimliği Alanında Yurt Dışı Yükse
 köğretim Diploma Denkliği İçin Seviye Tespit Sınavı 2026-STS Diş
  Hekimliği 1.Dönem Sonuç
END:VEVENT
BEGIN:VEVENT
UID:4aae1dac-7616-4a57-4faa-08de9f183112
DTSTAMP:20260420T200538Z
TRANSP:TRANSPARENT
DTSTART:20261031T210000Z
DTEND:20261031T210000Z
STATUS:CONFIRMED
SUMMARY:STS Diş Hekimliği Diş Hekimliği Alanında Yurt Dışı Yükse
 köğretim Diploma Denkliği İçin Seviye Tespit Sınavı 2026-STS Diş
  Hekimliği 2.Dönem Sınav
END:VEVENT
BEGIN:VEVENT
UID:4060a001-6cd0-4746-4fab-08de9f183112
DTSTAMP:20260420T200538Z
TRANSP:TRANSPARENT
DTSTART:20260915T210000Z
DTEND:20260915T210000Z
STATUS:CONFIRMED
SUMMARY:STS Diş Hekimliği Diş Hekimliği Alanında Yurt Dışı Yükse
 köğretim Diploma Denkliği İçin Seviye Tespit Sınavı 2026-STS Diş
  Hekimliği 2.Dönem Başvuru Başlangıç
END:VEVENT
BEGIN:VEVENT
UID:1c2fa26e-69b3-435e-4fac-08de9f183112
DTSTAMP:20260420T200538Z
TRANSP:TRANSPARENT
DTSTART:20260923T210000Z
DTEND:20260923T210000Z
STATUS:CONFIRMED
SUMMARY:STS Diş Hekimliği Diş Hekimliği Alanında Yurt Dışı Yükse
 köğretim Diploma Denkliği İçin Seviye Tespit Sınavı 2026-STS Diş
  Hekimliği 2.Dönem Başvuru Bitiş
END:VEVENT
BEGIN:VEVENT
UID:9492125d-1358-4469-4fad-08de9f183112
DTSTAMP:20260420T200538Z
TRANSP:TRANSPARENT
DTSTART:20260930T210000Z
DTEND:20260930T210000Z
STATUS:CONFIRMED
SUMMARY:STS Diş Hekimliği Diş Hekimliği Alanında Yurt Dışı Yükse
 köğretim Diploma Denkliği İçin Seviye Tespit Sınavı 2026-STS Diş
  Hekimliği 2.Dönem Geç Başvuru Başlangıç
END:VEVENT
BEGIN:VEVENT
UID:76c6113c-be64-4e29-4fae-08de9f183112
DTSTAMP:20260420T200538Z
TRANSP:TRANSPARENT
DTSTART:20261001T205900Z
DTEND:20261001T205900Z
STATUS:CONFIRMED
SUMMARY:STS Diş Hekimliği Diş Hekimliği Alanında Yurt Dışı Yükse
 köğretim Diploma Denkliği İçin Seviye Tespit Sınavı 2026-STS Diş
  Hekimliği 2.Dönem Geç Başvuru Bitiş
END:VEVENT
BEGIN:VEVENT
UID:c61142e4-9747-4d0d-4faf-08de9f183112
DTSTAMP:20260420T200538Z
TRANSP:TRANSPARENT
DTSTART:20261125T210000Z
DTEND:20261125T210000Z
STATUS:CONFIRMED
SUMMARY:STS Diş Hekimliği Diş Hekimliği Alanında Yurt Dışı Yükse
 köğretim Diploma Denkliği İçin Seviye Tespit Sınavı 2026-STS Diş
  Hekimliği 2.Dönem Sonuç
END:VEVENT
END:VCALENDAR
