BEGIN:VCALENDAR
VERSION:2.0
PRODID:itakvim.com
CALSCALE:GREGORIAN
METHOD:PUBLISH
UID:ty1jg613yfe
X-WR-CALNAME:Formula 1 Takvimi
X-ITAKVIM-LANGUAGE:tr
X-ORIGINAL-URL:itakvim.com
REFRESH-INTERVAL;VALUE=DURATION:PT1H
X-ITAKVIM-REGION:TR
X-Robots-Tag:noindex
X-PUBLISHED-TTL:PT1H
BEGIN:VEVENT
UID:113be3e3-8e39-4956-50cc-08de9f183112
DTSTAMP:20260420T200718Z
TRANSP:TRANSPARENT
DTSTART:20260306T013000Z
DTEND:20260306T013000Z
STATUS:CONFIRMED
SUMMARY:Avustralya Grand Prix'si Birinci antrenman
END:VEVENT
BEGIN:VEVENT
UID:cad121a4-3d87-4f3a-50cd-08de9f183112
DTSTAMP:20260420T200718Z
TRANSP:TRANSPARENT
DTSTART:20260306T050000Z
DTEND:20260306T050000Z
STATUS:CONFIRMED
SUMMARY:Avustralya Grand Prix'si İkinci antrenman
END:VEVENT
BEGIN:VEVENT
UID:a3d309e2-bddc-42bf-50ce-08de9f183112
DTSTAMP:20260420T200718Z
TRANSP:TRANSPARENT
DTSTART:20260307T013000Z
DTEND:20260307T013000Z
STATUS:CONFIRMED
SUMMARY:Avustralya Grand Prix'si Üçüncü antrenman
END:VEVENT
BEGIN:VEVENT
UID:5c636804-c291-41ce-50cf-08de9f183112
DTSTAMP:20260420T200718Z
TRANSP:TRANSPARENT
DTSTART:20260307T050000Z
DTEND:20260307T050000Z
STATUS:CONFIRMED
SUMMARY:Avustralya Grand Prix'si Sıralama turları
END:VEVENT
BEGIN:VEVENT
UID:9cb384c3-74e6-497a-50d0-08de9f183112
DTSTAMP:20260420T200718Z
TRANSP:TRANSPARENT
DTSTART:20260308T040000Z
DTEND:20260308T040000Z
STATUS:CONFIRMED
SUMMARY:Avustralya Grand Prix'si Yarış
END:VEVENT
BEGIN:VEVENT
UID:3fbc818a-c962-4858-50d1-08de9f183112
DTSTAMP:20260420T200718Z
TRANSP:TRANSPARENT
DTSTART:20260313T033000Z
DTEND:20260313T033000Z
STATUS:CONFIRMED
SUMMARY:Çin Grand Prix'si Birinci antrenman
END:VEVENT
BEGIN:VEVENT
UID:3e2faa63-a52f-4a9e-50d2-08de9f183112
DTSTAMP:20260420T200718Z
TRANSP:TRANSPARENT
DTSTART:20260313T073000Z
DTEND:20260313T073000Z
STATUS:CONFIRMED
SUMMARY:Çin Grand Prix'si Kısa Sıralama
END:VEVENT
BEGIN:VEVENT
UID:e9bb5545-0264-4f2e-50d3-08de9f183112
DTSTAMP:20260420T200718Z
TRANSP:TRANSPARENT
DTSTART:20260314T030000Z
DTEND:20260314T030000Z
STATUS:CONFIRMED
SUMMARY:Çin Grand Prix'si Sprint
END:VEVENT
BEGIN:VEVENT
UID:9c997322-537d-41d8-50d4-08de9f183112
DTSTAMP:20260420T200718Z
TRANSP:TRANSPARENT
DTSTART:20260314T070000Z
DTEND:20260314T070000Z
STATUS:CONFIRMED
SUMMARY:Çin Grand Prix'si Sıralama turları
END:VEVENT
BEGIN:VEVENT
UID:0902b416-a4a4-46bf-50d5-08de9f183112
DTSTAMP:20260420T200718Z
TRANSP:TRANSPARENT
DTSTART:20260315T070000Z
DTEND:20260315T070000Z
STATUS:CONFIRMED
SUMMARY:Çin Grand Prix'si Yarış
END:VEVENT
BEGIN:VEVENT
UID:81c9af95-6608-4890-50d6-08de9f183112
DTSTAMP:20260420T200718Z
TRANSP:TRANSPARENT
DTSTART:20260327T023000Z
DTEND:20260327T023000Z
STATUS:CONFIRMED
SUMMARY:Japonya Grand Prix'si Birinci antrenman
END:VEVENT
BEGIN:VEVENT
UID:34e20c03-35f6-4391-50d7-08de9f183112
DTSTAMP:20260420T200718Z
TRANSP:TRANSPARENT
DTSTART:20260327T060000Z
DTEND:20260327T060000Z
STATUS:CONFIRMED
SUMMARY:Japonya Grand Prix'si İkinci antrenman
END:VEVENT
BEGIN:VEVENT
UID:075b82b3-0600-4326-50d8-08de9f183112
DTSTAMP:20260420T200718Z
TRANSP:TRANSPARENT
DTSTART:20260328T023000Z
DTEND:20260328T023000Z
STATUS:CONFIRMED
SUMMARY:Japonya Grand Prix'si Üçüncü antrenman
END:VEVENT
BEGIN:VEVENT
UID:a0966110-6277-492b-50d9-08de9f183112
DTSTAMP:20260420T200718Z
TRANSP:TRANSPARENT
DTSTART:20260328T060000Z
DTEND:20260328T060000Z
STATUS:CONFIRMED
SUMMARY:Japonya Grand Prix'si Sıralama turları
END:VEVENT
BEGIN:VEVENT
UID:4a58f591-8999-4975-50da-08de9f183112
DTSTAMP:20260420T200718Z
TRANSP:TRANSPARENT
DTSTART:20260329T050000Z
DTEND:20260329T050000Z
STATUS:CONFIRMED
SUMMARY:Japonya Grand Prix'si Yarış
END:VEVENT
BEGIN:VEVENT
UID:c116bc28-9426-45e3-50db-08de9f183112
DTSTAMP:20260420T200718Z
TRANSP:TRANSPARENT
DTSTART:20260501T163000Z
DTEND:20260501T163000Z
STATUS:CONFIRMED
SUMMARY:Miami Grand Prix'si Birinci antrenman
END:VEVENT
BEGIN:VEVENT
UID:46262269-d1a3-4cd3-50dc-08de9f183112
DTSTAMP:20260420T200718Z
TRANSP:TRANSPARENT
DTSTART:20260501T203000Z
DTEND:20260501T203000Z
STATUS:CONFIRMED
SUMMARY:Miami Grand Prix'si Kısa Sıralama
END:VEVENT
BEGIN:VEVENT
UID:bb2d5899-a92d-494a-50dd-08de9f183112
DTSTAMP:20260420T200718Z
TRANSP:TRANSPARENT
DTSTART:20260502T160000Z
DTEND:20260502T160000Z
STATUS:CONFIRMED
SUMMARY:Miami Grand Prix'si Sprint
END:VEVENT
BEGIN:VEVENT
UID:9b6dcbc8-7d74-4719-50de-08de9f183112
DTSTAMP:20260420T200718Z
TRANSP:TRANSPARENT
DTSTART:20260502T200000Z
DTEND:20260502T200000Z
STATUS:CONFIRMED
SUMMARY:Miami Grand Prix'si Sıralama turları
END:VEVENT
BEGIN:VEVENT
UID:8249b88d-0976-4956-50df-08de9f183112
DTSTAMP:20260420T200718Z
TRANSP:TRANSPARENT
DTSTART:20260503T200000Z
DTEND:20260503T200000Z
STATUS:CONFIRMED
SUMMARY:Miami Grand Prix'si Yarış
END:VEVENT
BEGIN:VEVENT
UID:fc9e13e3-8d48-4ec5-50e0-08de9f183112
DTSTAMP:20260420T200718Z
TRANSP:TRANSPARENT
DTSTART:20260522T163000Z
DTEND:20260522T163000Z
STATUS:CONFIRMED
SUMMARY:Kanada Grand Prix'si Birinci antrenman
END:VEVENT
BEGIN:VEVENT
UID:791f8322-ac46-479e-50e1-08de9f183112
DTSTAMP:20260420T200718Z
TRANSP:TRANSPARENT
DTSTART:20260522T203000Z
DTEND:20260522T203000Z
STATUS:CONFIRMED
SUMMARY:Kanada Grand Prix'si Kısa Sıralama
END:VEVENT
BEGIN:VEVENT
UID:7df6d335-c39e-4840-50e2-08de9f183112
DTSTAMP:20260420T200718Z
TRANSP:TRANSPARENT
DTSTART:20260523T160000Z
DTEND:20260523T160000Z
STATUS:CONFIRMED
SUMMARY:Kanada Grand Prix'si Sprint
END:VEVENT
BEGIN:VEVENT
UID:8e757ee4-d7d4-4441-50e3-08de9f183112
DTSTAMP:20260420T200718Z
TRANSP:TRANSPARENT
DTSTART:20260523T200000Z
DTEND:20260523T200000Z
STATUS:CONFIRMED
SUMMARY:Kanada Grand Prix'si Sıralama turları
END:VEVENT
BEGIN:VEVENT
UID:872aa4b9-ec61-48b1-50e4-08de9f183112
DTSTAMP:20260420T200718Z
TRANSP:TRANSPARENT
DTSTART:20260524T200000Z
DTEND:20260524T200000Z
STATUS:CONFIRMED
SUMMARY:Kanada Grand Prix'si Yarış
END:VEVENT
BEGIN:VEVENT
UID:320477bd-9a3f-4873-50e5-08de9f183112
DTSTAMP:20260420T200718Z
TRANSP:TRANSPARENT
DTSTART:20260605T113000Z
DTEND:20260605T113000Z
STATUS:CONFIRMED
SUMMARY:Monako Grand Prix'si Birinci antrenman
END:VEVENT
BEGIN:VEVENT
UID:1f51e50a-cf6d-4347-50e6-08de9f183112
DTSTAMP:20260420T200718Z
TRANSP:TRANSPARENT
DTSTART:20260605T150000Z
DTEND:20260605T150000Z
STATUS:CONFIRMED
SUMMARY:Monako Grand Prix'si İkinci antrenman
END:VEVENT
BEGIN:VEVENT
UID:5bb10d75-f041-49e0-50e7-08de9f183112
DTSTAMP:20260420T200718Z
TRANSP:TRANSPARENT
DTSTART:20260606T103000Z
DTEND:20260606T103000Z
STATUS:CONFIRMED
SUMMARY:Monako Grand Prix'si Üçüncü antrenman
END:VEVENT
BEGIN:VEVENT
UID:42f3879a-fe65-43f2-50e8-08de9f183112
DTSTAMP:20260420T200718Z
TRANSP:TRANSPARENT
DTSTART:20260606T140000Z
DTEND:20260606T140000Z
STATUS:CONFIRMED
SUMMARY:Monako Grand Prix'si Sıralama turları
END:VEVENT
BEGIN:VEVENT
UID:a627c8bc-da85-4f0e-50e9-08de9f183112
DTSTAMP:20260420T200718Z
TRANSP:TRANSPARENT
DTSTART:20260607T130000Z
DTEND:20260607T130000Z
STATUS:CONFIRMED
SUMMARY:Monako Grand Prix'si Yarış
END:VEVENT
BEGIN:VEVENT
UID:140e50aa-d882-4879-50ea-08de9f183112
DTSTAMP:20260420T200718Z
TRANSP:TRANSPARENT
DTSTART:20260612T113000Z
DTEND:20260612T113000Z
STATUS:CONFIRMED
SUMMARY:All.races.barcelona-catalunya-grand-prix Birinci antrenman
END:VEVENT
BEGIN:VEVENT
UID:b3de46ab-b419-4107-50eb-08de9f183112
DTSTAMP:20260420T200718Z
TRANSP:TRANSPARENT
DTSTART:20260612T150000Z
DTEND:20260612T150000Z
STATUS:CONFIRMED
SUMMARY:All.races.barcelona-catalunya-grand-prix İkinci antrenman
END:VEVENT
BEGIN:VEVENT
UID:a5e0483a-5696-48fb-50ec-08de9f183112
DTSTAMP:20260420T200718Z
TRANSP:TRANSPARENT
DTSTART:20260613T103000Z
DTEND:20260613T103000Z
STATUS:CONFIRMED
SUMMARY:All.races.barcelona-catalunya-grand-prix Üçüncü antrenman
END:VEVENT
BEGIN:VEVENT
UID:3054ca4c-ddc3-4d07-50ed-08de9f183112
DTSTAMP:20260420T200718Z
TRANSP:TRANSPARENT
DTSTART:20260613T140000Z
DTEND:20260613T140000Z
STATUS:CONFIRMED
SUMMARY:All.races.barcelona-catalunya-grand-prix Sıralama turları
END:VEVENT
BEGIN:VEVENT
UID:87182c9e-cf4f-49c9-50ee-08de9f183112
DTSTAMP:20260420T200718Z
TRANSP:TRANSPARENT
DTSTART:20260614T130000Z
DTEND:20260614T130000Z
STATUS:CONFIRMED
SUMMARY:All.races.barcelona-catalunya-grand-prix Yarış
END:VEVENT
BEGIN:VEVENT
UID:3550b671-4c52-403e-50ef-08de9f183112
DTSTAMP:20260420T200718Z
TRANSP:TRANSPARENT
DTSTART:20260626T113000Z
DTEND:20260626T113000Z
STATUS:CONFIRMED
SUMMARY:Avusturya Grand Prix'si Birinci antrenman
END:VEVENT
BEGIN:VEVENT
UID:7a78e81c-2ca2-45c7-50f0-08de9f183112
DTSTAMP:20260420T200718Z
TRANSP:TRANSPARENT
DTSTART:20260626T150000Z
DTEND:20260626T150000Z
STATUS:CONFIRMED
SUMMARY:Avusturya Grand Prix'si İkinci antrenman
END:VEVENT
BEGIN:VEVENT
UID:00820e74-596b-4b13-50f1-08de9f183112
DTSTAMP:20260420T200718Z
TRANSP:TRANSPARENT
DTSTART:20260627T103000Z
DTEND:20260627T103000Z
STATUS:CONFIRMED
SUMMARY:Avusturya Grand Prix'si Üçüncü antrenman
END:VEVENT
BEGIN:VEVENT
UID:42b8dccd-4b7c-4602-50f2-08de9f183112
DTSTAMP:20260420T200718Z
TRANSP:TRANSPARENT
DTSTART:20260627T140000Z
DTEND:20260627T140000Z
STATUS:CONFIRMED
SUMMARY:Avusturya Grand Prix'si Sıralama turları
END:VEVENT
BEGIN:VEVENT
UID:4f933975-9369-4cf4-50f3-08de9f183112
DTSTAMP:20260420T200718Z
TRANSP:TRANSPARENT
DTSTART:20260628T130000Z
DTEND:20260628T130000Z
STATUS:CONFIRMED
SUMMARY:Avusturya Grand Prix'si Yarış
END:VEVENT
BEGIN:VEVENT
UID:7f161574-8d14-4c92-50f4-08de9f183112
DTSTAMP:20260420T200718Z
TRANSP:TRANSPARENT
DTSTART:20260703T113000Z
DTEND:20260703T113000Z
STATUS:CONFIRMED
SUMMARY:Britanya Grand Prix'si Birinci antrenman
END:VEVENT
BEGIN:VEVENT
UID:07b00b90-0508-40d8-50f5-08de9f183112
DTSTAMP:20260420T200718Z
TRANSP:TRANSPARENT
DTSTART:20260703T153000Z
DTEND:20260703T153000Z
STATUS:CONFIRMED
SUMMARY:Britanya Grand Prix'si Kısa Sıralama
END:VEVENT
BEGIN:VEVENT
UID:79a750b4-dab0-4804-50f6-08de9f183112
DTSTAMP:20260420T200718Z
TRANSP:TRANSPARENT
DTSTART:20260704T110000Z
DTEND:20260704T110000Z
STATUS:CONFIRMED
SUMMARY:Britanya Grand Prix'si Sprint
END:VEVENT
BEGIN:VEVENT
UID:bd02af50-3ee6-44ad-50f7-08de9f183112
DTSTAMP:20260420T200718Z
TRANSP:TRANSPARENT
DTSTART:20260704T150000Z
DTEND:20260704T150000Z
STATUS:CONFIRMED
SUMMARY:Britanya Grand Prix'si Sıralama turları
END:VEVENT
BEGIN:VEVENT
UID:575b1eb8-ab73-4e1e-50f8-08de9f183112
DTSTAMP:20260420T200718Z
TRANSP:TRANSPARENT
DTSTART:20260705T140000Z
DTEND:20260705T140000Z
STATUS:CONFIRMED
SUMMARY:Britanya Grand Prix'si Yarış
END:VEVENT
BEGIN:VEVENT
UID:2358df1d-5fbf-44aa-50f9-08de9f183112
DTSTAMP:20260420T200718Z
TRANSP:TRANSPARENT
DTSTART:20260717T113000Z
DTEND:20260717T113000Z
STATUS:CONFIRMED
SUMMARY:Belçika Grand Prix'si Birinci antrenman
END:VEVENT
BEGIN:VEVENT
UID:5a76f4e1-4487-4b26-50fa-08de9f183112
DTSTAMP:20260420T200718Z
TRANSP:TRANSPARENT
DTSTART:20260717T150000Z
DTEND:20260717T150000Z
STATUS:CONFIRMED
SUMMARY:Belçika Grand Prix'si İkinci antrenman
END:VEVENT
BEGIN:VEVENT
UID:10f0de7c-563a-479b-50fb-08de9f183112
DTSTAMP:20260420T200718Z
TRANSP:TRANSPARENT
DTSTART:20260718T103000Z
DTEND:20260718T103000Z
STATUS:CONFIRMED
SUMMARY:Belçika Grand Prix'si Üçüncü antrenman
END:VEVENT
BEGIN:VEVENT
UID:266e3265-d0f3-4cf6-50fc-08de9f183112
DTSTAMP:20260420T200718Z
TRANSP:TRANSPARENT
DTSTART:20260718T140000Z
DTEND:20260718T140000Z
STATUS:CONFIRMED
SUMMARY:Belçika Grand Prix'si Sıralama turları
END:VEVENT
BEGIN:VEVENT
UID:4ff958a1-730f-4180-50fd-08de9f183112
DTSTAMP:20260420T200718Z
TRANSP:TRANSPARENT
DTSTART:20260719T130000Z
DTEND:20260719T130000Z
STATUS:CONFIRMED
SUMMARY:Belçika Grand Prix'si Yarış
END:VEVENT
BEGIN:VEVENT
UID:c8fc9399-6ef8-4645-50fe-08de9f183112
DTSTAMP:20260420T200718Z
TRANSP:TRANSPARENT
DTSTART:20260724T113000Z
DTEND:20260724T113000Z
STATUS:CONFIRMED
SUMMARY:Macaristan Grand Prix'si Birinci antrenman
END:VEVENT
BEGIN:VEVENT
UID:f37f0d0d-57a7-44d5-50ff-08de9f183112
DTSTAMP:20260420T200718Z
TRANSP:TRANSPARENT
DTSTART:20260724T150000Z
DTEND:20260724T150000Z
STATUS:CONFIRMED
SUMMARY:Macaristan Grand Prix'si İkinci antrenman
END:VEVENT
BEGIN:VEVENT
UID:30bae21d-b99c-479e-5100-08de9f183112
DTSTAMP:20260420T200718Z
TRANSP:TRANSPARENT
DTSTART:20260725T103000Z
DTEND:20260725T103000Z
STATUS:CONFIRMED
SUMMARY:Macaristan Grand Prix'si Üçüncü antrenman
END:VEVENT
BEGIN:VEVENT
UID:88b541c3-2da6-406b-5101-08de9f183112
DTSTAMP:20260420T200718Z
TRANSP:TRANSPARENT
DTSTART:20260725T140000Z
DTEND:20260725T140000Z
STATUS:CONFIRMED
SUMMARY:Macaristan Grand Prix'si Sıralama turları
END:VEVENT
BEGIN:VEVENT
UID:fe32c423-a326-4449-5102-08de9f183112
DTSTAMP:20260420T200718Z
TRANSP:TRANSPARENT
DTSTART:20260726T130000Z
DTEND:20260726T130000Z
STATUS:CONFIRMED
SUMMARY:Macaristan Grand Prix'si Yarış
END:VEVENT
BEGIN:VEVENT
UID:e85815d1-3a42-4969-5103-08de9f183112
DTSTAMP:20260420T200718Z
TRANSP:TRANSPARENT
DTSTART:20260821T103000Z
DTEND:20260821T103000Z
STATUS:CONFIRMED
SUMMARY:Hollanda Grand Prix'si Birinci antrenman
END:VEVENT
BEGIN:VEVENT
UID:41702225-3a78-4b5e-5104-08de9f183112
DTSTAMP:20260420T200718Z
TRANSP:TRANSPARENT
DTSTART:20260821T143000Z
DTEND:20260821T143000Z
STATUS:CONFIRMED
SUMMARY:Hollanda Grand Prix'si Kısa Sıralama
END:VEVENT
BEGIN:VEVENT
UID:47c7b354-404b-4582-5105-08de9f183112
DTSTAMP:20260420T200718Z
TRANSP:TRANSPARENT
DTSTART:20260822T100000Z
DTEND:20260822T100000Z
STATUS:CONFIRMED
SUMMARY:Hollanda Grand Prix'si Sprint
END:VEVENT
BEGIN:VEVENT
UID:1d21e285-f9bb-4af7-5106-08de9f183112
DTSTAMP:20260420T200718Z
TRANSP:TRANSPARENT
DTSTART:20260822T140000Z
DTEND:20260822T140000Z
STATUS:CONFIRMED
SUMMARY:Hollanda Grand Prix'si Sıralama turları
END:VEVENT
BEGIN:VEVENT
UID:b6e1a011-0b62-479c-5107-08de9f183112
DTSTAMP:20260420T200718Z
TRANSP:TRANSPARENT
DTSTART:20260823T130000Z
DTEND:20260823T130000Z
STATUS:CONFIRMED
SUMMARY:Hollanda Grand Prix'si Yarış
END:VEVENT
BEGIN:VEVENT
UID:627479ba-be52-4501-5108-08de9f183112
DTSTAMP:20260420T200718Z
TRANSP:TRANSPARENT
DTSTART:20260904T103000Z
DTEND:20260904T103000Z
STATUS:CONFIRMED
SUMMARY:İtalya Grand Prix'si Birinci antrenman
END:VEVENT
BEGIN:VEVENT
UID:87202d8d-d5ab-4d52-5109-08de9f183112
DTSTAMP:20260420T200718Z
TRANSP:TRANSPARENT
DTSTART:20260904T140000Z
DTEND:20260904T140000Z
STATUS:CONFIRMED
SUMMARY:İtalya Grand Prix'si İkinci antrenman
END:VEVENT
BEGIN:VEVENT
UID:2f3dcf9c-d216-4cef-510a-08de9f183112
DTSTAMP:20260420T200718Z
TRANSP:TRANSPARENT
DTSTART:20260905T103000Z
DTEND:20260905T103000Z
STATUS:CONFIRMED
SUMMARY:İtalya Grand Prix'si Üçüncü antrenman
END:VEVENT
BEGIN:VEVENT
UID:cb3d754c-b74d-4a5f-510b-08de9f183112
DTSTAMP:20260420T200718Z
TRANSP:TRANSPARENT
DTSTART:20260905T140000Z
DTEND:20260905T140000Z
STATUS:CONFIRMED
SUMMARY:İtalya Grand Prix'si Sıralama turları
END:VEVENT
BEGIN:VEVENT
UID:5597cef2-9170-4f84-510c-08de9f183112
DTSTAMP:20260420T200718Z
TRANSP:TRANSPARENT
DTSTART:20260906T130000Z
DTEND:20260906T130000Z
STATUS:CONFIRMED
SUMMARY:İtalya Grand Prix'si Yarış
END:VEVENT
BEGIN:VEVENT
UID:589c5f60-e46f-4b6e-510d-08de9f183112
DTSTAMP:20260420T200718Z
TRANSP:TRANSPARENT
DTSTART:20260911T113000Z
DTEND:20260911T113000Z
STATUS:CONFIRMED
SUMMARY:İspanya Grand Prix'si Birinci antrenman
END:VEVENT
BEGIN:VEVENT
UID:e670c1d5-31bf-47a6-510e-08de9f183112
DTSTAMP:20260420T200718Z
TRANSP:TRANSPARENT
DTSTART:20260911T150000Z
DTEND:20260911T150000Z
STATUS:CONFIRMED
SUMMARY:İspanya Grand Prix'si İkinci antrenman
END:VEVENT
BEGIN:VEVENT
UID:b5a2d728-4bef-4110-510f-08de9f183112
DTSTAMP:20260420T200718Z
TRANSP:TRANSPARENT
DTSTART:20260912T103000Z
DTEND:20260912T103000Z
STATUS:CONFIRMED
SUMMARY:İspanya Grand Prix'si Üçüncü antrenman
END:VEVENT
BEGIN:VEVENT
UID:744f3ccc-c2f9-4a72-5110-08de9f183112
DTSTAMP:20260420T200718Z
TRANSP:TRANSPARENT
DTSTART:20260912T140000Z
DTEND:20260912T140000Z
STATUS:CONFIRMED
SUMMARY:İspanya Grand Prix'si Sıralama turları
END:VEVENT
BEGIN:VEVENT
UID:7c5947c7-0ba6-4c10-5111-08de9f183112
DTSTAMP:20260420T200718Z
TRANSP:TRANSPARENT
DTSTART:20260913T130000Z
DTEND:20260913T130000Z
STATUS:CONFIRMED
SUMMARY:İspanya Grand Prix'si Yarış
END:VEVENT
BEGIN:VEVENT
UID:34f34e26-a27b-4d86-5112-08de9f183112
DTSTAMP:20260420T200718Z
TRANSP:TRANSPARENT
DTSTART:20260924T083000Z
DTEND:20260924T083000Z
STATUS:CONFIRMED
SUMMARY:Azerbaycan Grand Prix'si Birinci antrenman
END:VEVENT
BEGIN:VEVENT
UID:f135291b-3671-4e2a-5113-08de9f183112
DTSTAMP:20260420T200718Z
TRANSP:TRANSPARENT
DTSTART:20260924T120000Z
DTEND:20260924T120000Z
STATUS:CONFIRMED
SUMMARY:Azerbaycan Grand Prix'si İkinci antrenman
END:VEVENT
BEGIN:VEVENT
UID:98c147a1-d005-49eb-5114-08de9f183112
DTSTAMP:20260420T200718Z
TRANSP:TRANSPARENT
DTSTART:20260925T083000Z
DTEND:20260925T083000Z
STATUS:CONFIRMED
SUMMARY:Azerbaycan Grand Prix'si Üçüncü antrenman
END:VEVENT
BEGIN:VEVENT
UID:954b07ba-6ea8-43ad-5115-08de9f183112
DTSTAMP:20260420T200718Z
TRANSP:TRANSPARENT
DTSTART:20260925T120000Z
DTEND:20260925T120000Z
STATUS:CONFIRMED
SUMMARY:Azerbaycan Grand Prix'si Sıralama turları
END:VEVENT
BEGIN:VEVENT
UID:dbaa2691-5185-4ed2-5116-08de9f183112
DTSTAMP:20260420T200718Z
TRANSP:TRANSPARENT
DTSTART:20260926T110000Z
DTEND:20260926T110000Z
STATUS:CONFIRMED
SUMMARY:Azerbaycan Grand Prix'si Yarış
END:VEVENT
BEGIN:VEVENT
UID:10f53059-c11f-425a-5117-08de9f183112
DTSTAMP:20260420T200718Z
TRANSP:TRANSPARENT
DTSTART:20261009T083000Z
DTEND:20261009T083000Z
STATUS:CONFIRMED
SUMMARY:Singapur Grand Prix'si Birinci antrenman
END:VEVENT
BEGIN:VEVENT
UID:7dd4cce4-5335-4158-5118-08de9f183112
DTSTAMP:20260420T200718Z
TRANSP:TRANSPARENT
DTSTART:20261009T123000Z
DTEND:20261009T123000Z
STATUS:CONFIRMED
SUMMARY:Singapur Grand Prix'si Kısa Sıralama
END:VEVENT
BEGIN:VEVENT
UID:318b5197-3ada-4541-5119-08de9f183112
DTSTAMP:20260420T200718Z
TRANSP:TRANSPARENT
DTSTART:20261010T090000Z
DTEND:20261010T090000Z
STATUS:CONFIRMED
SUMMARY:Singapur Grand Prix'si Sprint
END:VEVENT
BEGIN:VEVENT
UID:56ac57ea-42e1-4c21-511a-08de9f183112
DTSTAMP:20260420T200718Z
TRANSP:TRANSPARENT
DTSTART:20261010T130000Z
DTEND:20261010T130000Z
STATUS:CONFIRMED
SUMMARY:Singapur Grand Prix'si Sıralama turları
END:VEVENT
BEGIN:VEVENT
UID:f7299bde-879c-4f02-511b-08de9f183112
DTSTAMP:20260420T200718Z
TRANSP:TRANSPARENT
DTSTART:20261011T120000Z
DTEND:20261011T120000Z
STATUS:CONFIRMED
SUMMARY:Singapur Grand Prix'si Yarış
END:VEVENT
BEGIN:VEVENT
UID:20c26126-4c6b-485e-511c-08de9f183112
DTSTAMP:20260420T200718Z
TRANSP:TRANSPARENT
DTSTART:20261023T173000Z
DTEND:20261023T173000Z
STATUS:CONFIRMED
SUMMARY:ABD Grand Prix'si Birinci antrenman
END:VEVENT
BEGIN:VEVENT
UID:cebf1e52-c0fc-4a80-511d-08de9f183112
DTSTAMP:20260420T200718Z
TRANSP:TRANSPARENT
DTSTART:20261023T210000Z
DTEND:20261023T210000Z
STATUS:CONFIRMED
SUMMARY:ABD Grand Prix'si İkinci antrenman
END:VEVENT
BEGIN:VEVENT
UID:1b7f879e-4ee1-4d15-511e-08de9f183112
DTSTAMP:20260420T200718Z
TRANSP:TRANSPARENT
DTSTART:20261024T173000Z
DTEND:20261024T173000Z
STATUS:CONFIRMED
SUMMARY:ABD Grand Prix'si Üçüncü antrenman
END:VEVENT
BEGIN:VEVENT
UID:61b77419-d322-4dbb-511f-08de9f183112
DTSTAMP:20260420T200718Z
TRANSP:TRANSPARENT
DTSTART:20261024T210000Z
DTEND:20261024T210000Z
STATUS:CONFIRMED
SUMMARY:ABD Grand Prix'si Sıralama turları
END:VEVENT
BEGIN:VEVENT
UID:b44fbbb2-3d73-4373-5120-08de9f183112
DTSTAMP:20260420T200718Z
TRANSP:TRANSPARENT
DTSTART:20261025T200000Z
DTEND:20261025T200000Z
STATUS:CONFIRMED
SUMMARY:ABD Grand Prix'si Yarış
END:VEVENT
BEGIN:VEVENT
UID:cfccba65-0d29-4264-5121-08de9f183112
DTSTAMP:20260420T200718Z
TRANSP:TRANSPARENT
DTSTART:20261030T183000Z
DTEND:20261030T183000Z
STATUS:CONFIRMED
SUMMARY:Mexico City Grand Prix'si Birinci antrenman
END:VEVENT
BEGIN:VEVENT
UID:6349e9a5-6547-48f7-5122-08de9f183112
DTSTAMP:20260420T200718Z
TRANSP:TRANSPARENT
DTSTART:20261030T220000Z
DTEND:20261030T220000Z
STATUS:CONFIRMED
SUMMARY:Mexico City Grand Prix'si İkinci antrenman
END:VEVENT
BEGIN:VEVENT
UID:9d938ea5-a6d1-43cc-5123-08de9f183112
DTSTAMP:20260420T200718Z
TRANSP:TRANSPARENT
DTSTART:20261031T173000Z
DTEND:20261031T173000Z
STATUS:CONFIRMED
SUMMARY:Mexico City Grand Prix'si Üçüncü antrenman
END:VEVENT
BEGIN:VEVENT
UID:173156c1-ac5a-4683-5124-08de9f183112
DTSTAMP:20260420T200718Z
TRANSP:TRANSPARENT
DTSTART:20261031T210000Z
DTEND:20261031T210000Z
STATUS:CONFIRMED
SUMMARY:Mexico City Grand Prix'si Sıralama turları
END:VEVENT
BEGIN:VEVENT
UID:8d390d64-002e-4a62-5125-08de9f183112
DTSTAMP:20260420T200718Z
TRANSP:TRANSPARENT
DTSTART:20261101T200000Z
DTEND:20261101T200000Z
STATUS:CONFIRMED
SUMMARY:Mexico City Grand Prix'si Yarış
END:VEVENT
BEGIN:VEVENT
UID:f7d11468-94a8-4687-5126-08de9f183112
DTSTAMP:20260420T200718Z
TRANSP:TRANSPARENT
DTSTART:20261106T153000Z
DTEND:20261106T153000Z
STATUS:CONFIRMED
SUMMARY:Brezilya Grand Prix'si Birinci antrenman
END:VEVENT
BEGIN:VEVENT
UID:f1999bf8-6750-4285-5127-08de9f183112
DTSTAMP:20260420T200718Z
TRANSP:TRANSPARENT
DTSTART:20261106T190000Z
DTEND:20261106T190000Z
STATUS:CONFIRMED
SUMMARY:Brezilya Grand Prix'si İkinci antrenman
END:VEVENT
BEGIN:VEVENT
UID:8ea987da-b837-4ec4-5128-08de9f183112
DTSTAMP:20260420T200718Z
TRANSP:TRANSPARENT
DTSTART:20261107T143000Z
DTEND:20261107T143000Z
STATUS:CONFIRMED
SUMMARY:Brezilya Grand Prix'si Üçüncü antrenman
END:VEVENT
BEGIN:VEVENT
UID:cb36c3f9-752a-4cfa-5129-08de9f183112
DTSTAMP:20260420T200718Z
TRANSP:TRANSPARENT
DTSTART:20261107T180000Z
DTEND:20261107T180000Z
STATUS:CONFIRMED
SUMMARY:Brezilya Grand Prix'si Sıralama turları
END:VEVENT
BEGIN:VEVENT
UID:c8a071eb-dd1c-487e-512a-08de9f183112
DTSTAMP:20260420T200718Z
TRANSP:TRANSPARENT
DTSTART:20261108T170000Z
DTEND:20261108T170000Z
STATUS:CONFIRMED
SUMMARY:Brezilya Grand Prix'si Yarış
END:VEVENT
BEGIN:VEVENT
UID:71424c75-e245-48b7-512b-08de9f183112
DTSTAMP:20260420T200718Z
TRANSP:TRANSPARENT
DTSTART:20261120T003000Z
DTEND:20261120T003000Z
STATUS:CONFIRMED
SUMMARY:Las Vegas Grand Prix'si Birinci antrenman
END:VEVENT
BEGIN:VEVENT
UID:545ec2ae-3d39-4fa2-512c-08de9f183112
DTSTAMP:20260420T200718Z
TRANSP:TRANSPARENT
DTSTART:20261120T040000Z
DTEND:20261120T040000Z
STATUS:CONFIRMED
SUMMARY:Las Vegas Grand Prix'si İkinci antrenman
END:VEVENT
BEGIN:VEVENT
UID:6f78e153-52f0-407f-512d-08de9f183112
DTSTAMP:20260420T200718Z
TRANSP:TRANSPARENT
DTSTART:20261121T003000Z
DTEND:20261121T003000Z
STATUS:CONFIRMED
SUMMARY:Las Vegas Grand Prix'si Üçüncü antrenman
END:VEVENT
BEGIN:VEVENT
UID:18c2ff32-aa0c-4783-512e-08de9f183112
DTSTAMP:20260420T200718Z
TRANSP:TRANSPARENT
DTSTART:20261121T040000Z
DTEND:20261121T040000Z
STATUS:CONFIRMED
SUMMARY:Las Vegas Grand Prix'si Sıralama turları
END:VEVENT
BEGIN:VEVENT
UID:cee4e717-7f45-4a35-512f-08de9f183112
DTSTAMP:20260420T200718Z
TRANSP:TRANSPARENT
DTSTART:20261122T040000Z
DTEND:20261122T040000Z
STATUS:CONFIRMED
SUMMARY:Las Vegas Grand Prix'si Yarış
END:VEVENT
BEGIN:VEVENT
UID:27de0674-0bd1-449f-5130-08de9f183112
DTSTAMP:20260420T200718Z
TRANSP:TRANSPARENT
DTSTART:20261127T133000Z
DTEND:20261127T133000Z
STATUS:CONFIRMED
SUMMARY:Katar Grand Prix'si Birinci antrenman
END:VEVENT
BEGIN:VEVENT
UID:8b67d8da-438a-48e6-5131-08de9f183112
DTSTAMP:20260420T200718Z
TRANSP:TRANSPARENT
DTSTART:20261127T170000Z
DTEND:20261127T170000Z
STATUS:CONFIRMED
SUMMARY:Katar Grand Prix'si İkinci antrenman
END:VEVENT
BEGIN:VEVENT
UID:1ea63242-3b8d-4209-5132-08de9f183112
DTSTAMP:20260420T200718Z
TRANSP:TRANSPARENT
DTSTART:20261128T143000Z
DTEND:20261128T143000Z
STATUS:CONFIRMED
SUMMARY:Katar Grand Prix'si Üçüncü antrenman
END:VEVENT
BEGIN:VEVENT
UID:4a49dfa4-bc76-4d08-5133-08de9f183112
DTSTAMP:20260420T200718Z
TRANSP:TRANSPARENT
DTSTART:20261128T180000Z
DTEND:20261128T180000Z
STATUS:CONFIRMED
SUMMARY:Katar Grand Prix'si Sıralama turları
END:VEVENT
BEGIN:VEVENT
UID:847f33b6-c2c2-4965-5134-08de9f183112
DTSTAMP:20260420T200718Z
TRANSP:TRANSPARENT
DTSTART:20261129T160000Z
DTEND:20261129T160000Z
STATUS:CONFIRMED
SUMMARY:Katar Grand Prix'si Yarış
END:VEVENT
BEGIN:VEVENT
UID:1d253b98-86b2-4d4a-5135-08de9f183112
DTSTAMP:20260420T200718Z
TRANSP:TRANSPARENT
DTSTART:20261204T093000Z
DTEND:20261204T093000Z
STATUS:CONFIRMED
SUMMARY:Abu Dhabi Grand Prix'si Birinci antrenman
END:VEVENT
BEGIN:VEVENT
UID:bf4068d8-17ee-4cd3-5136-08de9f183112
DTSTAMP:20260420T200718Z
TRANSP:TRANSPARENT
DTSTART:20261204T130000Z
DTEND:20261204T130000Z
STATUS:CONFIRMED
SUMMARY:Abu Dhabi Grand Prix'si İkinci antrenman
END:VEVENT
BEGIN:VEVENT
UID:a395f0c4-b5af-440c-5137-08de9f183112
DTSTAMP:20260420T200718Z
TRANSP:TRANSPARENT
DTSTART:20261205T103000Z
DTEND:20261205T103000Z
STATUS:CONFIRMED
SUMMARY:Abu Dhabi Grand Prix'si Üçüncü antrenman
END:VEVENT
BEGIN:VEVENT
UID:5ddd501b-e291-444f-5138-08de9f183112
DTSTAMP:20260420T200718Z
TRANSP:TRANSPARENT
DTSTART:20261205T140000Z
DTEND:20261205T140000Z
STATUS:CONFIRMED
SUMMARY:Abu Dhabi Grand Prix'si Sıralama turları
END:VEVENT
BEGIN:VEVENT
UID:56813633-ea07-4089-5139-08de9f183112
DTSTAMP:20260420T200718Z
TRANSP:TRANSPARENT
DTSTART:20261206T130000Z
DTEND:20261206T130000Z
STATUS:CONFIRMED
SUMMARY:Abu Dhabi Grand Prix'si Yarış
END:VEVENT
END:VCALENDAR
