BEGIN:VCALENDAR
VERSION:2.0
PRODID:itakvim.com
CALSCALE:GREGORIAN
METHOD:PUBLISH
UID:u5qymwdr950
X-WR-CALNAME:TUS Sınav Takvimi
X-ITAKVIM-LANGUAGE:tr
X-ORIGINAL-URL:itakvim.com
REFRESH-INTERVAL;VALUE=DURATION:PT1H
X-ITAKVIM-REGION:TR
X-Robots-Tag:noindex
X-PUBLISHED-TTL:PT1H
BEGIN:VEVENT
UID:353c9a51-2cf3-45d5-4fb0-08de9f183112
DTSTAMP:20260420T200538Z
TRANSP:TRANSPARENT
DTSTART:20260315T071500Z
DTEND:20260315T071500Z
STATUS:CONFIRMED
SUMMARY:TUS Tıpta Uzmanlık Eğitimi Giriş Sınavı 2026-TUS 1. Dönem 
 Sınav
END:VEVENT
BEGIN:VEVENT
UID:bcb35778-791e-41ab-4fb1-08de9f183112
DTSTAMP:20260420T200538Z
TRANSP:TRANSPARENT
DTSTART:20260128T074500Z
DTEND:20260128T074500Z
STATUS:CONFIRMED
SUMMARY:TUS Tıpta Uzmanlık Eğitimi Giriş Sınavı 2026-TUS 1. Dönem 
 Başvuru Başlangıç
END:VEVENT
BEGIN:VEVENT
UID:2055422c-f2ad-4e39-4fb2-08de9f183112
DTSTAMP:20260420T200538Z
TRANSP:TRANSPARENT
DTSTART:20260205T205900Z
DTEND:20260205T205900Z
STATUS:CONFIRMED
SUMMARY:TUS Tıpta Uzmanlık Eğitimi Giriş Sınavı 2026-TUS 1. Dönem 
 Başvuru Bitiş
END:VEVENT
BEGIN:VEVENT
UID:24865c73-bfa9-4963-4fb3-08de9f183112
DTSTAMP:20260420T200538Z
TRANSP:TRANSPARENT
DTSTART:20260211T210000Z
DTEND:20260211T210000Z
STATUS:CONFIRMED
SUMMARY:TUS Tıpta Uzmanlık Eğitimi Giriş Sınavı 2026-TUS 1. Dönem 
 Geç Başvuru Başlangıç
END:VEVENT
BEGIN:VEVENT
UID:4e539782-b22e-4aeb-4fb4-08de9f183112
DTSTAMP:20260420T200538Z
TRANSP:TRANSPARENT
DTSTART:20260212T205900Z
DTEND:20260212T205900Z
STATUS:CONFIRMED
SUMMARY:TUS Tıpta Uzmanlık Eğitimi Giriş Sınavı 2026-TUS 1. Dönem 
 Geç Başvuru Bitiş
END:VEVENT
BEGIN:VEVENT
UID:fafb8baa-8941-456f-4fb5-08de9f183112
DTSTAMP:20260420T200538Z
TRANSP:TRANSPARENT
DTSTART:20260414T210000Z
DTEND:20260414T210000Z
STATUS:CONFIRMED
SUMMARY:TUS Tıpta Uzmanlık Eğitimi Giriş Sınavı 2026-TUS 1. Dönem 
 Sonuç
END:VEVENT
BEGIN:VEVENT
UID:4ebc3bec-ec4f-4cd4-4fb6-08de9f183112
DTSTAMP:20260420T200538Z
TRANSP:TRANSPARENT
DTSTART:20260822T210000Z
DTEND:20260822T210000Z
STATUS:CONFIRMED
SUMMARY:TUS Tıpta Uzmanlık Eğitimi Giriş Sınavı 2026-TUS 2. Dönem 
 Sınav
END:VEVENT
BEGIN:VEVENT
UID:55b274f1-f3ef-4dcb-4fb7-08de9f183112
DTSTAMP:20260420T200538Z
TRANSP:TRANSPARENT
DTSTART:20260707T210000Z
DTEND:20260707T210000Z
STATUS:CONFIRMED
SUMMARY:TUS Tıpta Uzmanlık Eğitimi Giriş Sınavı 2026-TUS 2. Dönem 
 Başvuru Başlangıç
END:VEVENT
BEGIN:VEVENT
UID:13cca4e3-6240-4d90-4fb8-08de9f183112
DTSTAMP:20260420T200538Z
TRANSP:TRANSPARENT
DTSTART:20260715T210000Z
DTEND:20260715T210000Z
STATUS:CONFIRMED
SUMMARY:TUS Tıpta Uzmanlık Eğitimi Giriş Sınavı 2026-TUS 2. Dönem 
 Başvuru Bitiş
END:VEVENT
BEGIN:VEVENT
UID:316a5a1b-d100-4085-4fb9-08de9f183112
DTSTAMP:20260420T200538Z
TRANSP:TRANSPARENT
DTSTART:20260723T210000Z
DTEND:20260723T210000Z
STATUS:CONFIRMED
SUMMARY:TUS Tıpta Uzmanlık Eğitimi Giriş Sınavı 2026-TUS 2. Dönem 
 Geç Başvuru Başlangıç
END:VEVENT
BEGIN:VEVENT
UID:a2766b3e-7034-4989-4fba-08de9f183112
DTSTAMP:20260420T200538Z
TRANSP:TRANSPARENT
DTSTART:20260724T205900Z
DTEND:20260724T205900Z
STATUS:CONFIRMED
SUMMARY:TUS Tıpta Uzmanlık Eğitimi Giriş Sınavı 2026-TUS 2. Dönem 
 Geç Başvuru Bitiş
END:VEVENT
BEGIN:VEVENT
UID:508dc7b6-35c7-4d33-4fbb-08de9f183112
DTSTAMP:20260420T200538Z
TRANSP:TRANSPARENT
DTSTART:20260916T210000Z
DTEND:20260916T210000Z
STATUS:CONFIRMED
SUMMARY:TUS Tıpta Uzmanlık Eğitimi Giriş Sınavı 2026-TUS 2. Dönem 
 Sonuç
END:VEVENT
END:VCALENDAR
