BEGIN:VCALENDAR
VERSION:2.0
PRODID:itakvim.com
CALSCALE:GREGORIAN
METHOD:PUBLISH
UID:un9yydzc0fm
X-WR-CALNAME:Konya Şehit Ömer Halisdemir Kapalı Sebze Ve Meyve Pazarı Takvimi
X-ITAKVIM-LANGUAGE:tr
X-ORIGINAL-URL:itakvim.com
REFRESH-INTERVAL;VALUE=DURATION:PT1H
X-ITAKVIM-REGION:TR
X-Robots-Tag:noindex
X-PUBLISHED-TTL:PT1H
BEGIN:VEVENT
UID:34449772-b2a1-4036-5a25-08de9f8ee600
DTSTAMP:20260421T101546Z
TRANSP:TRANSPARENT
DTSTART:20260612T060000Z
DTEND:20260615T150000Z
STATUS:CONFIRMED
SUMMARY:1.Karapınar Tarım ,Gıda Ve Hayvancılık Fuarı
DESCRIPTION:Start Fuarcılık Ve Organizasyon Limited Şirketi tarafında
 n düzenlenen tarım ekipmanları\,tarım ürünleri\,mekanizasyon\,tar
 ımsal gıda konulu fuarda görüşmek üzere: \n\nWeb:www.startfuar.com
 \nE-Posta: info@startfuar.com-muhasebe@startfuar.com
LOCATION:Şehit Ömer Halisdemir Kapalı Sebze Ve Meyve Pazarı
BEGIN:VALARM
ACTION:DISPLAY
DESCRIPTION:1.Karapınar Tarım ,Gıda Ve Hayvancılık Fuarı
TRIGGER:-PT24H
END:VALARM
END:VEVENT
END:VCALENDAR
