BEGIN:VCALENDAR
VERSION:2.0
PRODID:itakvim.com
CALSCALE:GREGORIAN
METHOD:PUBLISH
UID:uwxim9ly323
X-WR-CALNAME:Haberleşme Vergisi
X-ITAKVIM-LANGUAGE:tr
X-ORIGINAL-URL:itakvim.com
REFRESH-INTERVAL;VALUE=DURATION:PT1H
X-ITAKVIM-REGION:TR
X-Robots-Tag:noindex
X-PUBLISHED-TTL:PT1H
BEGIN:VEVENT
UID:7a7909cc-c13d-4659-d2f3-08de9f271cd7
DTSTAMP:20260420T215235Z
TRANSP:TRANSPARENT
DTSTART:20260401T060000Z
DTEND:20260401T060000Z
STATUS:CONFIRMED
SUMMARY:Mart 2026 Dönemine Ait Haberleşme Vergisinin Beyanı ve Ödemes
 i Başlangıç
DESCRIPTION:Mart 2026 Dönemi Haberleşme Vergisi Beyan ve Ödemesi
BEGIN:VALARM
ACTION:DISPLAY
DESCRIPTION:Mart 2026 Dönemine Ait Haberleşme Vergisinin Beyanı ve Öd
 emesi Başlangıç
TRIGGER:PT0S
END:VALARM
END:VEVENT
BEGIN:VEVENT
UID:330da921-82a9-4dba-d2f4-08de9f271cd7
DTSTAMP:20260420T215235Z
TRANSP:TRANSPARENT
DTSTART:20260430T140000Z
DTEND:20260430T140000Z
STATUS:CONFIRMED
SUMMARY:Mart 2026 Dönemi Haberleşme Vergisi Beyan ve Ödemesi Son Gün
DESCRIPTION:Mart 2026 Dönemine Ait Haberleşme Vergisinin Beyanı ve Öd
 emesi
BEGIN:VALARM
ACTION:DISPLAY
DESCRIPTION:Mart 2026 Dönemi Haberleşme Vergisi Beyan ve Ödemesi Son G
 ün
TRIGGER:-PT8H
END:VALARM
END:VEVENT
END:VCALENDAR
