BEGIN:VCALENDAR
VERSION:2.0
PRODID:itakvim.com
CALSCALE:GREGORIAN
METHOD:PUBLISH
UID:v5ifa1o2f5d
X-WR-CALNAME:Sheraton Bursa Hotel Takvimi
X-ITAKVIM-LANGUAGE:tr
X-ORIGINAL-URL:itakvim.com
REFRESH-INTERVAL;VALUE=DURATION:PT1H
X-ITAKVIM-REGION:TR
X-Robots-Tag:noindex
X-PUBLISHED-TTL:PT1H
BEGIN:VEVENT
UID:5a635880-efb7-4118-5340-08de9f183112
DTSTAMP:20260420T200816Z
TRANSP:TRANSPARENT
DTSTART:20260722T060000Z
DTEND:20260722T150000Z
STATUS:CONFIRMED
SUMMARY:Bursa Üniversite Tercih Fuarı
DESCRIPTION:Tercih Fuarcılık Limited Şirketi tarafından düzenlenen e
 ğitim \, üniversite tanıtımı\, üniversite tercih konulu fuarda gö
 rüşmek üzere: \n\nWeb:www.tercihfuari.com\nE-Posta: info@artitercih.c
 om
LOCATION:Sheraton Bursa Hotel
BEGIN:VALARM
ACTION:DISPLAY
DESCRIPTION:Bursa Üniversite Tercih Fuarı
TRIGGER:-PT24H
END:VALARM
END:VEVENT
END:VCALENDAR
