BEGIN:VCALENDAR
VERSION:2.0
PRODID:itakvim.com
CALSCALE:GREGORIAN
METHOD:PUBLISH
UID:vhraoiqpn6n
X-WR-CALNAME:DGS Sınav Takvimi
X-ITAKVIM-LANGUAGE:tr
X-ORIGINAL-URL:itakvim.com
REFRESH-INTERVAL;VALUE=DURATION:PT1H
X-ITAKVIM-REGION:TR
X-Robots-Tag:noindex
X-PUBLISHED-TTL:PT1H
BEGIN:VEVENT
UID:88a4f9d2-a81f-4ed1-4fbc-08de9f183112
DTSTAMP:20260420T200538Z
TRANSP:TRANSPARENT
DTSTART:20260718T210000Z
DTEND:20260718T210000Z
STATUS:CONFIRMED
SUMMARY:DGS Dikey Geçiş Sınavı 2026-DGS Sınav
END:VEVENT
BEGIN:VEVENT
UID:b8aab7e9-1aa5-4901-4fbd-08de9f183112
DTSTAMP:20260420T200538Z
TRANSP:TRANSPARENT
DTSTART:20260514T210000Z
DTEND:20260514T210000Z
STATUS:CONFIRMED
SUMMARY:DGS Dikey Geçiş Sınavı 2026-DGS Başvuru Başlangıç
END:VEVENT
BEGIN:VEVENT
UID:584e78a0-44f9-4a6d-4fbe-08de9f183112
DTSTAMP:20260420T200538Z
TRANSP:TRANSPARENT
DTSTART:20260601T210000Z
DTEND:20260601T210000Z
STATUS:CONFIRMED
SUMMARY:DGS Dikey Geçiş Sınavı 2026-DGS Başvuru Bitiş
END:VEVENT
BEGIN:VEVENT
UID:b71a4b7f-d5ef-41d1-4fbf-08de9f183112
DTSTAMP:20260420T200538Z
TRANSP:TRANSPARENT
DTSTART:20260610T210000Z
DTEND:20260610T210000Z
STATUS:CONFIRMED
SUMMARY:DGS Dikey Geçiş Sınavı 2026-DGS Geç Başvuru Başlangıç
END:VEVENT
BEGIN:VEVENT
UID:fa69bc51-564b-411f-4fc0-08de9f183112
DTSTAMP:20260420T200538Z
TRANSP:TRANSPARENT
DTSTART:20260611T205900Z
DTEND:20260611T205900Z
STATUS:CONFIRMED
SUMMARY:DGS Dikey Geçiş Sınavı 2026-DGS Geç Başvuru Bitiş
END:VEVENT
BEGIN:VEVENT
UID:c25224c6-1692-421e-4fc1-08de9f183112
DTSTAMP:20260420T200538Z
TRANSP:TRANSPARENT
DTSTART:20260812T210000Z
DTEND:20260812T210000Z
STATUS:CONFIRMED
SUMMARY:DGS Dikey Geçiş Sınavı 2026-DGS Sonuç
END:VEVENT
END:VCALENDAR
