BEGIN:VCALENDAR
VERSION:2.0
PRODID:itakvim.com
CALSCALE:GREGORIAN
METHOD:PUBLISH
UID:vzqgvwxd5p5
X-WR-CALNAME:Harbiye Muhsin Ertuğrul Sahnesi
X-ITAKVIM-LANGUAGE:tr
X-ORIGINAL-URL:itakvim.com
REFRESH-INTERVAL;VALUE=DURATION:PT1H
X-ITAKVIM-REGION:TR
X-Robots-Tag:noindex
X-PUBLISHED-TTL:PT1H
BEGIN:VEVENT
UID:e5f0b8f4-2008-45de-cc98-08de9d98d356
DTSTAMP:20260418T222122Z
TRANSP:TRANSPARENT
DTSTART:20260426T120000Z
DTEND:20260426T120000Z
STATUS:CONFIRMED
SUMMARY:Fındıkkıran
LOCATION:Harbiye Muhsin Ertuğrul Sahnesi
END:VEVENT
BEGIN:VEVENT
UID:1ca78330-6d4b-44f6-cc99-08de9d98d356
DTSTAMP:20260418T222122Z
TRANSP:TRANSPARENT
DTSTART:20260429T120000Z
DTEND:20260429T120000Z
STATUS:CONFIRMED
SUMMARY:Fosforlu Cevriye
LOCATION:Harbiye Muhsin Ertuğrul Sahnesi
END:VEVENT
BEGIN:VEVENT
UID:c64e42d2-78c0-497b-cc9a-08de9d98d356
DTSTAMP:20260418T222122Z
TRANSP:TRANSPARENT
DTSTART:20260429T170000Z
DTEND:20260429T170000Z
STATUS:CONFIRMED
SUMMARY:Fosforlu Cevriye
LOCATION:Harbiye Muhsin Ertuğrul Sahnesi
END:VEVENT
BEGIN:VEVENT
UID:ac647971-1717-4527-cc9b-08de9d98d356
DTSTAMP:20260418T222122Z
TRANSP:TRANSPARENT
DTSTART:20260430T170000Z
DTEND:20260430T170000Z
STATUS:CONFIRMED
SUMMARY:Fosforlu Cevriye
LOCATION:Harbiye Muhsin Ertuğrul Sahnesi
END:VEVENT
BEGIN:VEVENT
UID:18efcb4a-25f3-429e-cc9c-08de9d98d356
DTSTAMP:20260418T222122Z
TRANSP:TRANSPARENT
DTSTART:20260502T120000Z
DTEND:20260502T120000Z
STATUS:CONFIRMED
SUMMARY:Fosforlu Cevriye
LOCATION:Harbiye Muhsin Ertuğrul Sahnesi
END:VEVENT
BEGIN:VEVENT
UID:f1d626f8-439a-4bf0-cc9d-08de9d98d356
DTSTAMP:20260418T222122Z
TRANSP:TRANSPARENT
DTSTART:20260502T170000Z
DTEND:20260502T170000Z
STATUS:CONFIRMED
SUMMARY:Fosforlu Cevriye
LOCATION:Harbiye Muhsin Ertuğrul Sahnesi
END:VEVENT
BEGIN:VEVENT
UID:8ad16c96-f411-4f3d-cc9e-08de9d98d356
DTSTAMP:20260418T222122Z
TRANSP:TRANSPARENT
DTSTART:20260419T090000Z
DTEND:20260419T090000Z
STATUS:CONFIRMED
SUMMARY:İtfaiyecinin Sırrı
LOCATION:Harbiye Muhsin Ertuğrul Sahnesi
END:VEVENT
BEGIN:VEVENT
UID:bf042f98-978c-4602-cc9f-08de9d98d356
DTSTAMP:20260418T222122Z
TRANSP:TRANSPARENT
DTSTART:20260419T120000Z
DTEND:20260419T120000Z
STATUS:CONFIRMED
SUMMARY:İtfaiyecinin Sırrı
LOCATION:Harbiye Muhsin Ertuğrul Sahnesi
END:VEVENT
BEGIN:VEVENT
UID:4989b1d4-2062-4fe2-cca0-08de9d98d356
DTSTAMP:20260418T222122Z
TRANSP:TRANSPARENT
DTSTART:20260423T100000Z
DTEND:20260423T100000Z
STATUS:CONFIRMED
SUMMARY:Merhaba Çocuk (+7)
LOCATION:Harbiye Muhsin Ertuğrul Sahnesi
END:VEVENT
BEGIN:VEVENT
UID:7d2358e9-97d8-4fc3-cca1-08de9d98d356
DTSTAMP:20260418T222122Z
TRANSP:TRANSPARENT
DTSTART:20260423T130000Z
DTEND:20260423T130000Z
STATUS:CONFIRMED
SUMMARY:Merhaba Çocuk (+7)
LOCATION:Harbiye Muhsin Ertuğrul Sahnesi
END:VEVENT
BEGIN:VEVENT
UID:321dabc5-a19b-4b65-cca2-08de9d98d356
DTSTAMP:20260418T222122Z
TRANSP:TRANSPARENT
DTSTART:20260422T120000Z
DTEND:20260422T120000Z
STATUS:CONFIRMED
SUMMARY:Sen İstanbul'dan Daha Güzelsin
LOCATION:Harbiye Muhsin Ertuğrul Sahnesi
END:VEVENT
BEGIN:VEVENT
UID:c31c5fbd-fc86-4739-cca3-08de9d98d356
DTSTAMP:20260418T222122Z
TRANSP:TRANSPARENT
DTSTART:20260422T170000Z
DTEND:20260422T170000Z
STATUS:CONFIRMED
SUMMARY:Sen İstanbul'dan Daha Güzelsin
LOCATION:Harbiye Muhsin Ertuğrul Sahnesi
END:VEVENT
BEGIN:VEVENT
UID:24547f33-aaa8-4dd7-cca4-08de9d98d356
DTSTAMP:20260418T222122Z
TRANSP:TRANSPARENT
DTSTART:20260424T170000Z
DTEND:20260424T170000Z
STATUS:CONFIRMED
SUMMARY:Sen İstanbul'dan Daha Güzelsin
LOCATION:Harbiye Muhsin Ertuğrul Sahnesi
END:VEVENT
BEGIN:VEVENT
UID:1948ee39-a6f6-4dd7-cca5-08de9d98d356
DTSTAMP:20260418T222122Z
TRANSP:TRANSPARENT
DTSTART:20260425T120000Z
DTEND:20260425T120000Z
STATUS:CONFIRMED
SUMMARY:Sen İstanbul'dan Daha Güzelsin
LOCATION:Harbiye Muhsin Ertuğrul Sahnesi
END:VEVENT
BEGIN:VEVENT
UID:aa5e4b57-8334-4b5a-cca6-08de9d98d356
DTSTAMP:20260418T222122Z
TRANSP:TRANSPARENT
DTSTART:20260425T170000Z
DTEND:20260425T170000Z
STATUS:CONFIRMED
SUMMARY:Sen İstanbul'dan Daha Güzelsin
LOCATION:Harbiye Muhsin Ertuğrul Sahnesi
END:VEVENT
END:VCALENDAR
