BEGIN:VCALENDAR
VERSION:2.0
PRODID:itakvim.com
CALSCALE:GREGORIAN
METHOD:PUBLISH
UID:wdt5nbfoxve
X-WR-CALNAME:Antalya Tıtanıc Deluxe Hotel Takvimi
X-ITAKVIM-LANGUAGE:tr
X-ORIGINAL-URL:itakvim.com
REFRESH-INTERVAL;VALUE=DURATION:PT1H
X-ITAKVIM-REGION:TR
X-Robots-Tag:noindex
X-PUBLISHED-TTL:PT1H
BEGIN:VEVENT
UID:9581e94a-e129-47d3-5350-08de9f183112
DTSTAMP:20260420T200816Z
TRANSP:TRANSPARENT
DTSTART:20260415T060000Z
DTEND:20260420T150000Z
STATUS:CONFIRMED
SUMMARY:3.Oyfest Oyuncak Ve Çocuk Gereçleri Fuarı
DESCRIPTION:Oyfest Fuarcılık Ve Organizasyon Limited Şirketi tarafınd
 an düzenlenen bebek\, çocuk ve yetişkin oyuncakları\, hobi ve yaşam
  tarzı ürünleri konulu fuarda görüşmek üzere: \n\nWeb:oyfest.com.
 tr\nE-Posta: fatos@oyfest.com.tr
LOCATION:Tıtanıc Deluxe Hotel
BEGIN:VALARM
ACTION:DISPLAY
DESCRIPTION:3.Oyfest Oyuncak Ve Çocuk Gereçleri Fuarı
TRIGGER:-PT24H
END:VALARM
END:VEVENT
END:VCALENDAR
