BEGIN:VCALENDAR
VERSION:2.0
PRODID:itakvim.com
CALSCALE:GREGORIAN
METHOD:PUBLISH
UID:wkigncd3en2
X-WR-CALNAME:Antalya Cam Piramit Sabancı Kongre Ve Fuar Merkezi Takvimi
X-ITAKVIM-LANGUAGE:tr
X-ORIGINAL-URL:itakvim.com
REFRESH-INTERVAL;VALUE=DURATION:PT1H
X-ITAKVIM-REGION:TR
X-Robots-Tag:noindex
X-PUBLISHED-TTL:PT1H
BEGIN:VEVENT
UID:44576e8e-9c94-4fdd-5351-08de9f183112
DTSTAMP:20260420T200816Z
TRANSP:TRANSPARENT
DTSTART:20260604T060000Z
DTEND:20260607T150000Z
STATUS:CONFIRMED
SUMMARY:Antalya 3. Çağdaş Sanat Fuarı
DESCRIPTION:Msr Uluslararası Fuarcılık İthalat İhracat Sanayi Ticare
 t Limited Şirketi tarafından düzenlenen çağdaş ve modern sanat ese
 rlerinin sergilenmesi konulu fuarda görüşmek üzere: \n\nWeb:www.msrf
 uarcilik.com\nE-Posta: alihakan1970@gmail.com
LOCATION:Cam Piramit Sabancı Kongre Ve Fuar Merkezi
BEGIN:VALARM
ACTION:DISPLAY
DESCRIPTION:Antalya 3. Çağdaş Sanat Fuarı
TRIGGER:-PT24H
END:VALARM
END:VEVENT
BEGIN:VEVENT
UID:d27849f0-fb93-4a7a-5352-08de9f183112
DTSTAMP:20260420T200816Z
TRANSP:TRANSPARENT
DTSTART:20261002T060000Z
DTEND:20261011T150000Z
STATUS:CONFIRMED
SUMMARY:16.Antalya Kitap Fuarı
DESCRIPTION:Nap Fuarcılık Limited Şirketi tarafından düzenlenen kita
 p fuarı konulu fuarda görüşmek üzere: \n\nWeb:www.napgroup.com.tr\n
 E-Posta: nurdanpolatci@gmail.com
LOCATION:Cam Piramit Sabancı Kongre Ve Fuar Merkezi
BEGIN:VALARM
ACTION:DISPLAY
DESCRIPTION:16.Antalya Kitap Fuarı
TRIGGER:-PT24H
END:VALARM
END:VEVENT
END:VCALENDAR
