BEGIN:VCALENDAR
VERSION:2.0
PRODID:itakvim.com
CALSCALE:GREGORIAN
METHOD:PUBLISH
UID:wsgircbqnl2
X-WR-CALNAME:Kurum Geçici Vergisi
X-ITAKVIM-LANGUAGE:tr
X-ORIGINAL-URL:itakvim.com
REFRESH-INTERVAL;VALUE=DURATION:PT1H
X-ITAKVIM-REGION:TR
X-Robots-Tag:noindex
X-PUBLISHED-TTL:PT1H
BEGIN:VEVENT
UID:3c049ef8-6e48-445a-d2f5-08de9f271cd7
DTSTAMP:20260420T215235Z
TRANSP:TRANSPARENT
DTSTART:20260401T060000Z
DTEND:20260401T060000Z
STATUS:CONFIRMED
SUMMARY:2026 I. Geçici Vergi Dönemine (Ocak-Şubat-Mart) Ait Kurum Geç
 ici Vergisinin Beyanı ve Ödemesi Başlangıç
DESCRIPTION:2026 I. Geçici Vergi Dönemi (Ocak-Şubat-Mart) Kurum Geçic
 i Vergisi Beyan ve Ödemesi
BEGIN:VALARM
ACTION:DISPLAY
DESCRIPTION:2026 I. Geçici Vergi Dönemine (Ocak-Şubat-Mart) Ait Kurum 
 Geçici Vergisinin Beyanı ve Ödemesi Başlangıç
TRIGGER:PT0S
END:VALARM
END:VEVENT
BEGIN:VEVENT
UID:b1984996-17cd-48b9-d2f6-08de9f271cd7
DTSTAMP:20260420T215235Z
TRANSP:TRANSPARENT
DTSTART:20260518T140000Z
DTEND:20260518T140000Z
STATUS:CONFIRMED
SUMMARY:2026 I. Geçici Vergi Dönemi (Ocak-Şubat-Mart) Kurum Geçici Ve
 rgisi Beyan ve Ödemesi Son Gün
DESCRIPTION:2026 I. Geçici Vergi Dönemine (Ocak-Şubat-Mart) Ait Kurum 
 Geçici Vergisinin Beyanı ve Ödemesi
BEGIN:VALARM
ACTION:DISPLAY
DESCRIPTION:2026 I. Geçici Vergi Dönemi (Ocak-Şubat-Mart) Kurum Geçic
 i Vergisi Beyan ve Ödemesi Son Gün
TRIGGER:-PT8H
END:VALARM
END:VEVENT
END:VCALENDAR
