BEGIN:VCALENDAR
VERSION:2.0
PRODID:itakvim.com
CALSCALE:GREGORIAN
METHOD:PUBLISH
UID:wujd5y9xu6f
X-WR-CALNAME:Çanakkale Biga Belediyesi Kapalı Fuar Tesisi (Biga Tso) Takvimi
X-ITAKVIM-LANGUAGE:tr
X-ORIGINAL-URL:itakvim.com
REFRESH-INTERVAL;VALUE=DURATION:PT1H
X-ITAKVIM-REGION:TR
X-Robots-Tag:noindex
X-PUBLISHED-TTL:PT1H
BEGIN:VEVENT
UID:3ff23b94-e8f1-4dbd-5356-08de9f183112
DTSTAMP:20260420T200816Z
TRANSP:TRANSPARENT
DTSTART:20261002T060000Z
DTEND:20261004T150000Z
STATUS:CONFIRMED
SUMMARY:16. Biga Tarım, Hayvancılık Sanayi Ve Gıda Fuarı
DESCRIPTION:Renkli Fuarcılık Ltd. Şti. tarafından düzenlenen tarım\
 , seracılık\, hayvancılık gıda\, sanayi ürünleri ve teknolojileri
  konulu fuarda görüşmek üzere: \n\nWeb:www.renklyfuar.com\nE-Posta: 
 info@renklyfuar.com
LOCATION:Biga Belediyesi Kapalı Fuar Tesisi (Biga Tso)
BEGIN:VALARM
ACTION:DISPLAY
DESCRIPTION:16. Biga Tarım, Hayvancılık Sanayi Ve Gıda Fuarı
TRIGGER:-PT24H
END:VALARM
END:VEVENT
END:VCALENDAR
