BEGIN:VCALENDAR
VERSION:2.0
PRODID:itakvim.com
CALSCALE:GREGORIAN
METHOD:PUBLISH
UID:x6f5hmqalot
X-WR-CALNAME:Sakarya Hendek Belediyesi Çok Amaçlı Kapalı Fuar Alanı Takvimi
X-ITAKVIM-LANGUAGE:tr
X-ORIGINAL-URL:itakvim.com
REFRESH-INTERVAL;VALUE=DURATION:PT1H
X-ITAKVIM-REGION:TR
X-Robots-Tag:noindex
X-PUBLISHED-TTL:PT1H
BEGIN:VEVENT
UID:763082e9-8f16-4418-5357-08de9f183112
DTSTAMP:20260420T200817Z
TRANSP:TRANSPARENT
DTSTART:20261105T060000Z
DTEND:20261108T150000Z
STATUS:CONFIRMED
SUMMARY:Sakarya 8. Tarım Hayvancılık Makineleri Teknolojileri Ve Yem F
 uarı
DESCRIPTION:Gl Platform Fuar Hizmetleri Limited Şirketi tarafından düz
 enlenen canlı hayvan\, hayvancılık\, tarım makineleri\, et\, süt te
 knolojileri konulu fuarda görüşmek üzere: \n\nWeb:www.glplatformfuar
 .com\nE-Posta: info@glplatformfuar.com
LOCATION:Hendek Belediyesi Çok Amaçlı Kapalı Fuar Alanı
BEGIN:VALARM
ACTION:DISPLAY
DESCRIPTION:Sakarya 8. Tarım Hayvancılık Makineleri Teknolojileri Ve Y
 em Fuarı
TRIGGER:-PT24H
END:VALARM
END:VEVENT
END:VCALENDAR
