BEGIN:VCALENDAR
VERSION:2.0
PRODID:itakvim.com
CALSCALE:GREGORIAN
METHOD:PUBLISH
UID:xb90u31dbgg
X-WR-CALNAME:Ümraniye Sahnesi
X-ITAKVIM-LANGUAGE:tr
X-ORIGINAL-URL:itakvim.com
REFRESH-INTERVAL;VALUE=DURATION:PT1H
X-ITAKVIM-REGION:TR
X-Robots-Tag:noindex
X-PUBLISHED-TTL:PT1H
BEGIN:VEVENT
UID:e611f739-170b-4119-cca7-08de9d98d356
DTSTAMP:20260418T222121Z
TRANSP:TRANSPARENT
DTSTART:20260429T170000Z
DTEND:20260429T170000Z
STATUS:CONFIRMED
SUMMARY:Bir Ziyaret
LOCATION:Ümraniye Sahnesi
END:VEVENT
BEGIN:VEVENT
UID:ffacddf2-3691-409a-cca8-08de9d98d356
DTSTAMP:20260418T222121Z
TRANSP:TRANSPARENT
DTSTART:20260430T170000Z
DTEND:20260430T170000Z
STATUS:CONFIRMED
SUMMARY:Bir Ziyaret
LOCATION:Ümraniye Sahnesi
END:VEVENT
BEGIN:VEVENT
UID:b45df569-afe0-422d-cca9-08de9d98d356
DTSTAMP:20260418T222121Z
TRANSP:TRANSPARENT
DTSTART:20260502T120000Z
DTEND:20260502T120000Z
STATUS:CONFIRMED
SUMMARY:Bir Ziyaret
LOCATION:Ümraniye Sahnesi
END:VEVENT
BEGIN:VEVENT
UID:e27d235e-cd08-4279-ccaa-08de9d98d356
DTSTAMP:20260418T222121Z
TRANSP:TRANSPARENT
DTSTART:20260502T170000Z
DTEND:20260502T170000Z
STATUS:CONFIRMED
SUMMARY:Bir Ziyaret
LOCATION:Ümraniye Sahnesi
END:VEVENT
BEGIN:VEVENT
UID:b54455d0-2b1a-4cb6-ccab-08de9d98d356
DTSTAMP:20260418T222121Z
TRANSP:TRANSPARENT
DTSTART:20260419T090000Z
DTEND:20260419T090000Z
STATUS:CONFIRMED
SUMMARY:Fındıkkıran
LOCATION:Ümraniye Sahnesi
END:VEVENT
BEGIN:VEVENT
UID:749ce869-d0f0-4ace-ccac-08de9d98d356
DTSTAMP:20260418T222121Z
TRANSP:TRANSPARENT
DTSTART:20260419T120000Z
DTEND:20260419T120000Z
STATUS:CONFIRMED
SUMMARY:Fındıkkıran
LOCATION:Ümraniye Sahnesi
END:VEVENT
BEGIN:VEVENT
UID:28647fd3-6e2c-4981-ccad-08de9d98d356
DTSTAMP:20260418T222121Z
TRANSP:TRANSPARENT
DTSTART:20260423T100000Z
DTEND:20260423T100000Z
STATUS:CONFIRMED
SUMMARY:İtfaiyecinin Sırrı
LOCATION:Ümraniye Sahnesi
END:VEVENT
BEGIN:VEVENT
UID:642d650f-efbd-4dae-ccae-08de9d98d356
DTSTAMP:20260418T222121Z
TRANSP:TRANSPARENT
DTSTART:20260423T130000Z
DTEND:20260423T130000Z
STATUS:CONFIRMED
SUMMARY:İtfaiyecinin Sırrı
LOCATION:Ümraniye Sahnesi
END:VEVENT
BEGIN:VEVENT
UID:631a9b24-a353-4834-ccaf-08de9d98d356
DTSTAMP:20260418T222121Z
TRANSP:TRANSPARENT
DTSTART:20260426T120000Z
DTEND:20260426T120000Z
STATUS:CONFIRMED
SUMMARY:Sesler Ülkesi
LOCATION:Ümraniye Sahnesi
END:VEVENT
END:VCALENDAR
