BEGIN:VCALENDAR
VERSION:2.0
PRODID:itakvim.com
CALSCALE:GREGORIAN
METHOD:PUBLISH
UID:xra1zglpps1
X-WR-CALNAME:Mısırlı.Com.Tr Fatih Karagümrük
X-ITAKVIM-LANGUAGE:tr
X-ORIGINAL-URL:itakvim.com
REFRESH-INTERVAL;VALUE=DURATION:PT1H
X-ITAKVIM-REGION:TR
X-Robots-Tag:noindex
X-PUBLISHED-TTL:PT1H
BEGIN:VEVENT
UID:29392f62-23b6-4049-dd5f-08de9c03c470
DTSTAMP:20260416T220746Z
TRANSP:TRANSPARENT
DTSTART:20260418T113000Z
DTEND:20260418T113000Z
STATUS:CONFIRMED
SUMMARY:MISIRLI.COM.TR FATİH KARAGÜMRÜK - İKAS EYÜPSPOR
LOCATION:ATATÜRK OLİMPİYAT - İSTANBUL
BEGIN:VALARM
ACTION:DISPLAY
DESCRIPTION:MISIRLI.COM.TR FATİH KARAGÜMRÜK - İKAS EYÜPSPOR
TRIGGER:PT0S
END:VALARM
END:VEVENT
BEGIN:VEVENT
UID:725c7631-700e-4cf0-dd60-08de9c03c470
DTSTAMP:20260416T220746Z
TRANSP:TRANSPARENT
DTSTART:20260427T170000Z
DTEND:20260427T170000Z
STATUS:CONFIRMED
SUMMARY:BEŞİKTAŞ A.Ş. - MISIRLI.COM.TR FATİH KARAGÜMRÜK
LOCATION:BEŞİKTAŞ PARK - İSTANBUL
BEGIN:VALARM
ACTION:DISPLAY
DESCRIPTION:BEŞİKTAŞ A.Ş. - MISIRLI.COM.TR FATİH KARAGÜMRÜK
TRIGGER:PT0S
END:VALARM
END:VEVENT
BEGIN:VEVENT
UID:60782888-ddd7-4592-dd61-08de9c03c470
DTSTAMP:20260416T220746Z
TRANSP:TRANSPARENT
DTSTART:20260502T210000Z
DTEND:20260502T210000Z
STATUS:CONFIRMED
SUMMARY:MISIRLI.COM.TR FATİH KARAGÜMRÜK - NATURA DÜNYASI GENÇLERBİR
 LİĞİ
LOCATION:ATATÜRK OLİMPİYAT
BEGIN:VALARM
ACTION:DISPLAY
DESCRIPTION:MISIRLI.COM.TR FATİH KARAGÜMRÜK - NATURA DÜNYASI GENÇLER
 BİRLİĞİ
TRIGGER:PT0S
END:VALARM
END:VEVENT
BEGIN:VEVENT
UID:438eab3a-5d94-49a3-dd62-08de9c03c470
DTSTAMP:20260416T220746Z
TRANSP:TRANSPARENT
DTSTART:20260509T210000Z
DTEND:20260509T210000Z
STATUS:CONFIRMED
SUMMARY:KOCAELİSPOR - MISIRLI.COM.TR FATİH KARAGÜMRÜK
LOCATION:TURKA ARAÇ MUAYENE KOCAELİ STADYUMU - KOCAELİ
BEGIN:VALARM
ACTION:DISPLAY
DESCRIPTION:KOCAELİSPOR - MISIRLI.COM.TR FATİH KARAGÜMRÜK
TRIGGER:PT0S
END:VALARM
END:VEVENT
BEGIN:VEVENT
UID:e45168c2-ca99-42c1-dd63-08de9c03c470
DTSTAMP:20260416T220746Z
TRANSP:TRANSPARENT
DTSTART:20260516T210000Z
DTEND:20260516T210000Z
STATUS:CONFIRMED
SUMMARY:MISIRLI.COM.TR FATİH KARAGÜMRÜK - CORENDON ALANYASPOR
LOCATION:ATATÜRK OLİMPİYAT
BEGIN:VALARM
ACTION:DISPLAY
DESCRIPTION:MISIRLI.COM.TR FATİH KARAGÜMRÜK - CORENDON ALANYASPOR
TRIGGER:PT0S
END:VALARM
END:VEVENT
END:VCALENDAR
