BEGIN:VCALENDAR
VERSION:2.0
PRODID:itakvim.com
CALSCALE:GREGORIAN
METHOD:PUBLISH
UID:yj0xpysxy1x
X-WR-CALNAME:Antalya Pine Beach Belek Tarafından B Salonu Takvimi
X-ITAKVIM-LANGUAGE:tr
X-ORIGINAL-URL:itakvim.com
REFRESH-INTERVAL;VALUE=DURATION:PT1H
X-ITAKVIM-REGION:TR
X-Robots-Tag:noindex
X-PUBLISHED-TTL:PT1H
BEGIN:VEVENT
UID:d600c098-bba5-4d1e-5360-08de9f183112
DTSTAMP:20260420T200816Z
TRANSP:TRANSPARENT
DTSTART:20260917T060000Z
DTEND:20260919T150000Z
STATUS:CONFIRMED
SUMMARY:İnterfresh Eurasia / Interfood Eurasia Meyve,Sebze,Gıda,Gıda 
 Ürünleri ,Gıda Teknolojileri Ambalaj,Tarım Teknolojileri,Depolama Ve
    Lojistik Fuarı
DESCRIPTION:Antexpo Fuarcılık Hizmetleri Anonim Şirketi tarafından d
 üzenlenen sebze\,meyve\, gıda\,ambalaj\,lojistik\, tarım ekipmanları
 \,depolama \, konulu fuarda görüşmek üzere: \n\nWeb:euroasiainterfre
 sh.com\nE-Posta: obanbal@antexpo.info
LOCATION:Pine Beach Belek Tarafından B Salonu
BEGIN:VALARM
ACTION:DISPLAY
DESCRIPTION:İnterfresh Eurasia / Interfood Eurasia Meyve,Sebze,Gıda,Gı
 da Ürünleri ,Gıda Teknolojileri Ambalaj,Tarım Teknolojileri,Depolama
  Ve   Lojistik Fuarı
TRIGGER:-PT24H
END:VALARM
END:VEVENT
END:VCALENDAR
