BEGIN:VCALENDAR
VERSION:2.0
PRODID:itakvim.com
CALSCALE:GREGORIAN
METHOD:PUBLISH
UID:ymh8tlzdh5c
X-WR-CALNAME:Yozgat Sorgun Geçici Fuar Merkezi Takvimi
X-ITAKVIM-LANGUAGE:tr
X-ORIGINAL-URL:itakvim.com
REFRESH-INTERVAL;VALUE=DURATION:PT1H
X-ITAKVIM-REGION:TR
X-Robots-Tag:noindex
X-PUBLISHED-TTL:PT1H
BEGIN:VEVENT
UID:653f2dab-bcf6-47f1-5361-08de9f183112
DTSTAMP:20260420T200816Z
TRANSP:TRANSPARENT
DTSTART:20260604T060000Z
DTEND:20260604T150000Z
STATUS:CONFIRMED
SUMMARY:1.Sorgun Tarım Hayvancılık Ve Gıda Fuarı
DESCRIPTION:Show Fuarcılık Organizasyon Ticaret Ve Sanayi Limited Şirk
 eti tarafından düzenlenen tarım gıda hayvancılık teknolojileri ve 
 endüstrileri konulu fuarda görüşmek üzere: \n\nWeb:www.showfuar.com
 \nE-Posta: showfuar@gmail.com
LOCATION:Sorgun Geçici Fuar Merkezi
BEGIN:VALARM
ACTION:DISPLAY
DESCRIPTION:1.Sorgun Tarım Hayvancılık Ve Gıda Fuarı
TRIGGER:-PT24H
END:VALARM
END:VEVENT
END:VCALENDAR
