BEGIN:VCALENDAR
VERSION:2.0
PRODID:itakvim.com
CALSCALE:GREGORIAN
METHOD:PUBLISH
UID:yob3p9baquj
X-WR-CALNAME:Ankara Sheraton Hotel Ve Kongre Merkezi Takvimi
X-ITAKVIM-LANGUAGE:tr
X-ORIGINAL-URL:itakvim.com
REFRESH-INTERVAL;VALUE=DURATION:PT1H
X-ITAKVIM-REGION:TR
X-Robots-Tag:noindex
X-PUBLISHED-TTL:PT1H
BEGIN:VEVENT
UID:ed4befd8-2483-4bbd-5362-08de9f183112
DTSTAMP:20260420T200816Z
TRANSP:TRANSPARENT
DTSTART:20260722T060000Z
DTEND:20260723T150000Z
STATUS:CONFIRMED
SUMMARY:Ankara Üniversite Tercih Fuarı
DESCRIPTION:Tercih Fuarcılık Limited Şirketi tarafından düzenlenen e
 ğitim \, üniversite tanıtımı\, üniversite tercih konulu fuarda gö
 rüşmek üzere: \n\nWeb:www.tercihfuari.com\nE-Posta: info@artitercih.c
 om
LOCATION:Sheraton Hotel Ve Kongre Merkezi
BEGIN:VALARM
ACTION:DISPLAY
DESCRIPTION:Ankara Üniversite Tercih Fuarı
TRIGGER:-PT24H
END:VALARM
END:VEVENT
BEGIN:VEVENT
UID:21bdcbfd-3d01-4f18-5363-08de9f183112
DTSTAMP:20260420T200816Z
TRANSP:TRANSPARENT
DTSTART:20260926T060000Z
DTEND:20260926T150000Z
STATUS:CONFIRMED
SUMMARY:İngiltere Eğitim Günleri Fuarı
DESCRIPTION:Edukas Yurtdışı Eğitim Danışmanlık Ticaret Limited Şi
 rketi tarafından düzenlenen İngiltere eğitim kurumları ve kariyer f
 uarı konulu fuarda görüşmek üzere: \n\nWeb:www.educationukdays.com\
 nE-Posta: gozde@edukas.com.tr
LOCATION:Sheraton Hotel Ve Kongre Merkezi
BEGIN:VALARM
ACTION:DISPLAY
DESCRIPTION:İngiltere Eğitim Günleri Fuarı
TRIGGER:-PT24H
END:VALARM
END:VEVENT
BEGIN:VEVENT
UID:feacef33-e3b4-4631-5364-08de9f183112
DTSTAMP:20260420T200816Z
TRANSP:TRANSPARENT
DTSTART:20261021T060000Z
DTEND:20261021T150000Z
STATUS:CONFIRMED
SUMMARY:Akare Yurtdışı Eğitim Fuarları
DESCRIPTION:Akare Fuarcılık Anonim Şirketi tarafından düzenlenen yur
 tdışı eğitim alternatifleri ve İmkanları konulu fuarda görüşmek
  üzere: \n\nWeb:www.akare.com.tr\nE-Posta: canan@akare.com.tr
LOCATION:Sheraton Hotel Ve Kongre Merkezi
BEGIN:VALARM
ACTION:DISPLAY
DESCRIPTION:Akare Yurtdışı Eğitim Fuarları
TRIGGER:-PT24H
END:VALARM
END:VEVENT
BEGIN:VEVENT
UID:aff81e5a-54bc-45c5-5365-08de9f183112
DTSTAMP:20260420T200816Z
TRANSP:TRANSPARENT
DTSTART:20261022T060000Z
DTEND:20261022T150000Z
STATUS:CONFIRMED
SUMMARY:Ieft Yurt Dışı Eğitim Fuar Ve Seminerleri
DESCRIPTION:İstanbul Eğitim Fuarları Ve Tan. Ltd. Şti. tarafından d
 üzenlenen yurt dışı eğitim fuar ve seminerleri konulu fuarda görü
 şmek üzere: \n\nWeb:www.ieft.net\nE-Posta: info@ieft.net
LOCATION:Sheraton Hotel Ve Kongre Merkezi
BEGIN:VALARM
ACTION:DISPLAY
DESCRIPTION:Ieft Yurt Dışı Eğitim Fuar Ve Seminerleri
TRIGGER:-PT24H
END:VALARM
END:VEVENT
END:VCALENDAR
