BEGIN:VCALENDAR
VERSION:2.0
PRODID:itakvim.com
CALSCALE:GREGORIAN
METHOD:PUBLISH
UID:z7n9pca9zfi
X-WR-CALNAME:İstanbul Intercontınental Istanbul Takvimi
X-ITAKVIM-LANGUAGE:tr
X-ORIGINAL-URL:itakvim.com
REFRESH-INTERVAL;VALUE=DURATION:PT1H
X-ITAKVIM-REGION:TR
X-Robots-Tag:noindex
X-PUBLISHED-TTL:PT1H
BEGIN:VEVENT
UID:313ab449-88a8-4e04-5366-08de9f183112
DTSTAMP:20260420T200816Z
TRANSP:TRANSPARENT
DTSTART:20261003T060000Z
DTEND:20261003T150000Z
STATUS:CONFIRMED
SUMMARY:İngiltere Eğitim Günleri Fuarı
DESCRIPTION:Edukas Yurtdışı Eğitim Danışmanlık Ticaret Limited Şi
 rketi tarafından düzenlenen İngiltere eğitim kurumları ve kariyer f
 uarı konulu fuarda görüşmek üzere: \n\nWeb:www.educationukdays.com\
 nE-Posta: gozde@edukas.com.tr
LOCATION:Intercontınental Istanbul
BEGIN:VALARM
ACTION:DISPLAY
DESCRIPTION:İngiltere Eğitim Günleri Fuarı
TRIGGER:-PT24H
END:VALARM
END:VEVENT
END:VCALENDAR
