BEGIN:VCALENDAR
VERSION:2.0
PRODID:itakvim.com
CALSCALE:GREGORIAN
METHOD:PUBLISH
UID:zb7rjboazr4
X-WR-CALNAME:MEB-AGS Sınav Takvimi
X-ITAKVIM-LANGUAGE:tr
X-ORIGINAL-URL:itakvim.com
REFRESH-INTERVAL;VALUE=DURATION:PT1H
X-ITAKVIM-REGION:TR
X-Robots-Tag:noindex
X-PUBLISHED-TTL:PT1H
BEGIN:VEVENT
UID:5092cb5b-3e28-4f55-4fc2-08de9f183112
DTSTAMP:20260420T200538Z
TRANSP:TRANSPARENT
DTSTART:20260711T210000Z
DTEND:20260711T210000Z
STATUS:CONFIRMED
SUMMARY:MEB-AGS Millî Eğitim Bakanlığı Akademi Giriş Sınavı 2026-
 MEB-AGS (Akademi Giriş Sınavı (AGS), Öğretmenlik Alan Bilgisi Testi
  (ÖABT)) Sınav
END:VEVENT
BEGIN:VEVENT
UID:62c3b4bc-b963-46eb-4fc3-08de9f183112
DTSTAMP:20260420T200538Z
TRANSP:TRANSPARENT
DTSTART:20260507T210000Z
DTEND:20260507T210000Z
STATUS:CONFIRMED
SUMMARY:MEB-AGS Millî Eğitim Bakanlığı Akademi Giriş Sınavı 2026-
 MEB-AGS (Akademi Giriş Sınavı (AGS), Öğretmenlik Alan Bilgisi Testi
  (ÖABT)) Başvuru Başlangıç
END:VEVENT
BEGIN:VEVENT
UID:69b7fc9b-d473-41ad-4fc4-08de9f183112
DTSTAMP:20260420T200538Z
TRANSP:TRANSPARENT
DTSTART:20260519T210000Z
DTEND:20260519T210000Z
STATUS:CONFIRMED
SUMMARY:MEB-AGS Millî Eğitim Bakanlığı Akademi Giriş Sınavı 2026-
 MEB-AGS (Akademi Giriş Sınavı (AGS), Öğretmenlik Alan Bilgisi Testi
  (ÖABT)) Başvuru Bitiş
END:VEVENT
BEGIN:VEVENT
UID:ddff93ce-491a-4fdc-4fc5-08de9f183112
DTSTAMP:20260420T200538Z
TRANSP:TRANSPARENT
DTSTART:20260602T210000Z
DTEND:20260602T210000Z
STATUS:CONFIRMED
SUMMARY:MEB-AGS Millî Eğitim Bakanlığı Akademi Giriş Sınavı 2026-
 MEB-AGS (Akademi Giriş Sınavı (AGS), Öğretmenlik Alan Bilgisi Testi
  (ÖABT)) Geç Başvuru Başlangıç
END:VEVENT
BEGIN:VEVENT
UID:a5dae2cb-4303-4153-4fc6-08de9f183112
DTSTAMP:20260420T200538Z
TRANSP:TRANSPARENT
DTSTART:20260603T205900Z
DTEND:20260603T205900Z
STATUS:CONFIRMED
SUMMARY:MEB-AGS Millî Eğitim Bakanlığı Akademi Giriş Sınavı 2026-
 MEB-AGS (Akademi Giriş Sınavı (AGS), Öğretmenlik Alan Bilgisi Testi
  (ÖABT)) Geç Başvuru Bitiş
END:VEVENT
BEGIN:VEVENT
UID:f28c7b67-07e8-4a88-4fc7-08de9f183112
DTSTAMP:20260420T200538Z
TRANSP:TRANSPARENT
DTSTART:20260811T210000Z
DTEND:20260811T210000Z
STATUS:CONFIRMED
SUMMARY:MEB-AGS Millî Eğitim Bakanlığı Akademi Giriş Sınavı 2026-
 MEB-AGS (Akademi Giriş Sınavı (AGS), Öğretmenlik Alan Bilgisi Testi
  (ÖABT)) Sonuç
END:VEVENT
END:VCALENDAR
