BEGIN:VCALENDAR
VERSION:2.0
PRODID:itakvim.com
CALSCALE:GREGORIAN
METHOD:PUBLISH
UID:zo8n8ne99fu
X-WR-CALNAME:İstanbul Kongre Merkezi Takvimi
X-ITAKVIM-LANGUAGE:tr
X-ORIGINAL-URL:itakvim.com
REFRESH-INTERVAL;VALUE=DURATION:PT1H
X-ITAKVIM-REGION:TR
X-Robots-Tag:noindex
X-PUBLISHED-TTL:PT1H
BEGIN:VEVENT
UID:ce224156-3266-48f7-5a5c-08de9f8ee600
DTSTAMP:20260421T101545Z
TRANSP:TRANSPARENT
DTSTART:20260307T060000Z
DTEND:20260308T150000Z
STATUS:CONFIRMED
SUMMARY:Akare Yurtdışı Eğitim Fuarları
DESCRIPTION:Akare Fuarcılık Anonim Şirketi tarafından düzenlenen yur
 tdışı eğitim alternatifleri ve imkanları konulu fuarda görüşmek 
 üzere: \n\nWeb:www.akare.com.tr\nE-Posta: canan@akare.com.tr
LOCATION:İstanbul Kongre Merkezi
BEGIN:VALARM
ACTION:DISPLAY
DESCRIPTION:Akare Yurtdışı Eğitim Fuarları
TRIGGER:-PT24H
END:VALARM
END:VEVENT
BEGIN:VEVENT
UID:b8907bea-5024-42a4-5a5d-08de9f8ee600
DTSTAMP:20260421T101545Z
TRANSP:TRANSPARENT
DTSTART:20260410T060000Z
DTEND:20260411T150000Z
STATUS:CONFIRMED
SUMMARY:Salon Du Chocolat İstanbul
DESCRIPTION:Sözen Yayıncılık Organizasyon Turizm Gıda Sanayi Ve Tica
 ret Anonim Şirketi tarafından düzenlenen çikolata\, kakao\, şekerle
 me\, unlu mamül\, pastacılık\, gastronomi\, içecek\, kahve konulu fu
 arda görüşmek üzere: \n\nWeb:salonduchocolatistanbul.com\nE-Posta: g
 okmen.sozen@sozen-group.com
LOCATION:İstanbul Kongre Merkezi
BEGIN:VALARM
ACTION:DISPLAY
DESCRIPTION:Salon Du Chocolat İstanbul
TRIGGER:-PT24H
END:VALARM
END:VEVENT
BEGIN:VEVENT
UID:747d1535-65b4-4718-5a5e-08de9f8ee600
DTSTAMP:20260421T101545Z
TRANSP:TRANSPARENT
DTSTART:20260427T060000Z
DTEND:20260429T150000Z
STATUS:CONFIRMED
SUMMARY:17. Aus Avrupa  Kongresi İstanbul 2026
DESCRIPTION:Sedef Fuar Ve Kongre Hiz. San. Ve Tic. A.Ş. tarafından düz
 enlenen akıllı ulaşım teknoloji ve sistem çözümleri konulu fuarda
  görüşmek üzere: \n\nWeb:www.2026.itseuropeancongress.com\nE-Posta: 
 info@sedefgrup.com.tr
LOCATION:İstanbul Kongre Merkezi
BEGIN:VALARM
ACTION:DISPLAY
DESCRIPTION:17. Aus Avrupa  Kongresi İstanbul 2026
TRIGGER:-PT24H
END:VALARM
END:VEVENT
BEGIN:VEVENT
UID:e0a80559-9d2d-4400-5a5f-08de9f8ee600
DTSTAMP:20260421T101545Z
TRANSP:TRANSPARENT
DTSTART:20260527T060000Z
DTEND:20260530T150000Z
STATUS:CONFIRMED
SUMMARY:Gsc 2026 Küresel Omurilik Kongresi 2026
DESCRIPTION:Sedef Fuar Ve Kongre Hiz. San. Ve Tic. A.Ş. tarafından düz
 enlenen omurga cerrahisi ve sağlık hizmetleri konulu fuarda görüşme
 k üzere: \n\nWeb:www.globalspinecongress.org\nE-Posta: info@sedefgrup.c
 om.tr
LOCATION:İstanbul Kongre Merkezi
BEGIN:VALARM
ACTION:DISPLAY
DESCRIPTION:Gsc 2026 Küresel Omurilik Kongresi 2026
TRIGGER:-PT24H
END:VALARM
END:VEVENT
BEGIN:VEVENT
UID:726c0dda-cb1c-445e-5a60-08de9f8ee600
DTSTAMP:20260421T101545Z
TRANSP:TRANSPARENT
DTSTART:20260724T060000Z
DTEND:20260726T150000Z
STATUS:CONFIRMED
SUMMARY:15. İstanbul Üniversite Tercih Fuarı
DESCRIPTION:Eket Fuarcılık Ticaret Limited Şirketi tarafından düzenl
 enen eğitim \, yüksek öğretim ve üniversite tercihleri konulu fuard
 a görüşmek üzere: \n\nWeb:www.unitercih.com\nE-Posta: info@eket.com.
 tr
LOCATION:İstanbul Kongre Merkezi
BEGIN:VALARM
ACTION:DISPLAY
DESCRIPTION:15. İstanbul Üniversite Tercih Fuarı
TRIGGER:-PT24H
END:VALARM
END:VEVENT
BEGIN:VEVENT
UID:31ea96d0-f918-4a7a-5a61-08de9f8ee600
DTSTAMP:20260421T101545Z
TRANSP:TRANSPARENT
DTSTART:20261007T060000Z
DTEND:20261009T150000Z
STATUS:CONFIRMED
SUMMARY:Avrasya Teknoloji Haftası
DESCRIPTION:Gen Uluslararası Fuarcılık Anonim Şirketi tarafından dü
 zenlenen yapay zeka\, fintek\, e-mobilite\, telekomünikasyon\, iot konu
 lu fuarda görüşmek üzere: \n\nWeb:www.etwistanbul.com\nE-Posta: cxgu
 lsoy@gmail.com
LOCATION:İstanbul Kongre Merkezi
BEGIN:VALARM
ACTION:DISPLAY
DESCRIPTION:Avrasya Teknoloji Haftası
TRIGGER:-PT24H
END:VALARM
END:VEVENT
BEGIN:VEVENT
UID:605b4c7e-5705-4552-5a62-08de9f8ee600
DTSTAMP:20260421T101545Z
TRANSP:TRANSPARENT
DTSTART:20261013T060000Z
DTEND:20261015T150000Z
STATUS:CONFIRMED
SUMMARY:Sıvılaştırılmış Gaz Haftası 2026
DESCRIPTION:Sedef Fuar Ve Kongre Hiz. San. Ve Tic. A.Ş. tarafından düz
 enlenen küresel sıvılaştırılmış ve petrol gazı  enerji endüstr
 isi çözümleri konulu fuarda görüşmek üzere: \n\nWeb:www.liquidgas
 week.com\nE-Posta: info@sedefgrup.com.tr
LOCATION:İstanbul Kongre Merkezi
BEGIN:VALARM
ACTION:DISPLAY
DESCRIPTION:Sıvılaştırılmış Gaz Haftası 2026
TRIGGER:-PT24H
END:VALARM
END:VEVENT
BEGIN:VEVENT
UID:c8d53a0f-fb7e-46ca-5a63-08de9f8ee600
DTSTAMP:20260421T101545Z
TRANSP:TRANSPARENT
DTSTART:20261017T060000Z
DTEND:20261018T150000Z
STATUS:CONFIRMED
SUMMARY:Akare Yurtdışı Eğitim Fuarları
DESCRIPTION:Akare Fuarcılık Anonim Şirketi tarafından düzenlenen yur
 tdışı eğitim alternatifleri ve imkanları konulu fuarda görüşmek 
 üzere: \n\nWeb:www.akare.com.tr\nE-Posta: canan@akare.com.tr
LOCATION:İstanbul Kongre Merkezi
BEGIN:VALARM
ACTION:DISPLAY
DESCRIPTION:Akare Yurtdışı Eğitim Fuarları
TRIGGER:-PT24H
END:VALARM
END:VEVENT
BEGIN:VEVENT
UID:73852abb-5e26-4edd-5a64-08de9f8ee600
DTSTAMP:20260421T101545Z
TRANSP:TRANSPARENT
DTSTART:20261126T060000Z
DTEND:20261128T150000Z
STATUS:CONFIRMED
SUMMARY:Lıght+Intellıgent Buıldıng Istanbul
DESCRIPTION:Messe Frankfurt İstanbul Ulus. Fuarcılık Ltd. Şti. taraf
 ından düzenlenen aydınlatma ve akıllı bina otomasyon teknolojileri 
 fuarı konulu fuarda görüşmek üzere: \n\nWeb:tr.messefrankfurt.com\n
 E-Posta: info@turkey.messefrankfurt.com
LOCATION:İstanbul Kongre Merkezi
BEGIN:VALARM
ACTION:DISPLAY
DESCRIPTION:Lıght+Intellıgent Buıldıng Istanbul
TRIGGER:-PT24H
END:VALARM
END:VEVENT
END:VCALENDAR
