BEGIN:VCALENDAR
VERSION:2.0
PRODID:itakvim.com
CALSCALE:GREGORIAN
METHOD:PUBLISH
UID:zp99wh762n6
X-WR-CALNAME:Aydin Tariş Çok Amaçlı Fuar Alanı Takvimi
X-ITAKVIM-LANGUAGE:tr
X-ORIGINAL-URL:itakvim.com
REFRESH-INTERVAL;VALUE=DURATION:PT1H
X-ITAKVIM-REGION:TR
X-Robots-Tag:noindex
X-PUBLISHED-TTL:PT1H
BEGIN:VEVENT
UID:141e2932-d8ef-4521-7257-08de6facbbe9
DTSTAMP:20260219T114800Z
TRANSP:TRANSPARENT
DTSTART:20260212T060000Z
DTEND:20260215T150000Z
STATUS:CONFIRMED
SUMMARY:Aydın Uluslararası Tarım Gıda Ve Hayvancılık Fuarı
DESCRIPTION:Mnp Fuarcılık Tanıtım Ve Organizasyon Limited Şirketi ta
 rafından düzenlenen tarım gıda ve hayvancılık konulu fuarda görü
 şmek üzere: \n\nWeb:www.mnpfuar.com\nE-Posta: mnpfuar@gmail.com
LOCATION:Tariş Çok Amaçlı Fuar Alanı
END:VEVENT
END:VCALENDAR
